{"text_format":"3","workbook":"xlsx","n_sheets":5,"sheets":["Versionen","PSt","Variante1","Variante2","SV_B"],"not_rendered":{"macros":1,"defined_names":40,"comments":1},"read":"whole","date_system":"1900"}

{"sheet":"Versionen","index":0,"n_rows":4,"n_cols":483,"rows_kept":4,"hidden":true}
["VNr","Sitze_1","Sitze_2","SiV1_1","SiV1_2","SiV1_3","SiV1_4","SiV1_5","SiV1_6","SiV1_7","SiV1_8","SiV1_9","SiV1_10","SiV1_11","SiV1_12","SiV1_13","SiV1_14","SiV1_15","SiV1_16","SiV1_17","SiV1_18","SiV1_19","SiV1_20","SiV1_21","SiV1_22","SiV1_23","SiV1_24","SiV2_1","SiV2_2","SiV2_3","SiV2_4","SiV2_5","SiV2_6","SiV2_7","SiV2_8","SiV2_9","SiV2_10","SiV2_11","SiV2_12","SiV2_13","SiV2_14","SiV2_15","SiV2_16","SiV2_17","SiV2_18","SiV2_19","SiV2_20","SiV2_21","SiV2_22","SiV2_23","SiV2_24","LiNr_1","LiNr_2","LiNr_3","LiNr_4","LiNr_5","LiNr_6","LiNr_7","LiNr_8","LiNr_9","LiNr_10","LiNr_11","LiNr_12","LiNr_13","LiNr_14","LiNr_15","LiNr_16","LiNr_17","LiNr_18","LiNr_19","LiNr_20","LiNr_21","LiNr_22","LiNr_23","LiNr_24","LiBez_1","LiBez_2","LiBez_3","LiBez_4","LiBez_5","LiBez_6","LiBez_7","LiBez_8","LiBez_9","LiBez_10","LiBez_11","LiBez_12","LiBez_13","LiBez_14","LiBez_15","LiBez_16","LiBez_17","LiBez_18","LiBez_19","LiBez_20","LiBez_21","LiBez_22","LiBez_23","LiBez_24","LV1_1","LV1_2","LV1_3","LV1_4","LV1_5","LV1_6","LV1_7","LV1_8","LV1_9","LV1_10","LV1_11","LV1_12","LV1_13","LV1_14","LV1_15","LV1_16","LV1_17","LV1_18","LV1_19","LV1_20","LV1_21","LV1_22","LV1_23","LV1_24","LUV1_1","LUV1_2","LUV1_3","LUV1_4","LUV1_5","LUV1_6","LUV1_7","LUV1_8","LUV1_9","LUV1_10","LUV1_11","LUV1_12","LUV1_13","LUV1_14","LUV1_15","LUV1_16","LUV1_17","LUV1_18","LUV1_19","LUV1_20","LUV1_21","LUV1_22","LUV1_23","LUV1_24","LV2_1","LV2_2","LV2_3","LV2_4","LV2_5","LV2_6","LV2_7","LV2_8","LV2_9","LV2_10","LV2_11","LV2_12","LV2_13","LV2_14","LV2_15","LV2_16","LV2_17","LV2_18","LV2_19","LV2_20","LV2_21","LV2_22","LV2_23","LV2_24","LUV2_1","LUV2_2","LUV2_3","LUV2_4","LUV2_5","LUV2_6","LUV2_7","LUV2_8","LUV2_9","LUV2_10","LUV2_11","LUV2_12","LUV2_13","LUV2_14","LUV2_15","LUV2_16","LUV2_17","LUV2_18","LUV2_19","LUV2_20","LUV2_21","LUV2_22","LUV2_23","LUV2_24","StB1_1","StB1_2","StB1_3","StB1_4","StB1_5","StB1_6","StB1_7","StB1_8","StB1_9","StB1_10","StB1_11","StB1_12","StB1_13","StB1_14","StB1_15","StB1_16","StB1_17","StB1_18","StB1_19","StB1_20","StB1_21","StB1_22","StB1_23","StB1_24","StB2_1","StB2_2","StB2_3","StB2_4","StB2_5","StB2_6","StB2_7","StB2_8","StB2_9","StB2_10","StB2_11","StB2_12","StB2_13","StB2_14","StB2_15","StB2_16","StB2_17","StB2_18","StB2_19","StB2_20","StB2_21","StB2_22","StB2_23","StB2_24","StB3_1","StB3_2","StB3_3","StB3_4","StB3_5","StB3_6","StB3_7","StB3_8","StB3_9","StB3_10","StB3_11","StB3_12","StB3_13","StB3_14","StB3_15","StB3_16","StB3_17","StB3_18","StB3_19","StB3_20","StB3_21","StB3_22","StB3_23","StB3_24","StB4_1","StB4_2","StB4_3","StB4_4","StB4_5","StB4_6","StB4_7","StB4_8","StB4_9","StB4_10","StB4_11","StB4_12","StB4_13","StB4_14","StB4_15","StB4_16","StB4_17","StB4_18","StB4_19","StB4_20","StB4_21","StB4_22","StB4_23","StB4_24","StB5_1","StB5_2","StB5_3","StB5_4","StB5_5","StB5_6","StB5_7","StB5_8","StB5_9","StB5_10","StB5_11","StB5_12","StB5_13","StB5_14","StB5_15","StB5_16","StB5_17","StB5_18","StB5_19","StB5_20","StB5_21","StB5_22","StB5_23","StB5_24","StB6_1","StB6_2","StB6_3","StB6_4","StB6_5","StB6_6","StB6_7","StB6_8","StB6_9","StB6_10","StB6_11","StB6_12","StB6_13","StB6_14","StB6_15","StB6_16","StB6_17","StB6_18","StB6_19","StB6_20","StB6_21","StB6_22","StB6_23","StB6_24","StB7_1","StB7_2","StB7_3","StB7_4","StB7_5","StB7_6","StB7_7","StB7_8","StB7_9","StB7_10","StB7_11","StB7_12","StB7_13","StB7_14","StB7_15","StB7_16","StB7_17","StB7_18","StB7_19","StB7_20","StB7_21","StB7_22","StB7_23","StB7_24","StB8_1","StB8_2","StB8_3","StB8_4","StB8_5","StB8_6","StB8_7","StB8_8","StB8_9","StB8_10","StB8_11","StB8_12","StB8_13","StB8_14","StB8_15","StB8_16","StB8_17","StB8_18","StB8_19","StB8_20","StB8_21","StB8_22","StB8_23","StB8_24","StB9_1","StB9_2","StB9_3","StB9_4","StB9_5","StB9_6","StB9_7","StB9_8","StB9_9","StB9_10","StB9_11","StB9_12","StB9_13","StB9_14","StB9_15","StB9_16","StB9_17","StB9_18","StB9_19","StB9_20","StB9_21","StB9_22","StB9_23","StB9_24","StB10_1","StB10_2","StB10_3","StB10_4","StB10_5","StB10_6","StB10_7","StB10_8","StB10_9","StB10_10","StB10_11","StB10_12","StB10_13","StB10_14","StB10_15","StB10_16","StB10_17","StB10_18","StB10_19","StB10_20","StB10_21","StB10_22","StB10_23","StB10_24","StB11_1","StB11_2","StB11_3","StB11_4","StB11_5","StB11_6","StB11_7","StB11_8","StB11_9","StB11_10","StB11_11","StB11_12","StB11_13","StB11_14","StB11_15","StB11_16","StB11_17","StB11_18","StB11_19","StB11_20","StB11_21","StB11_22","StB11_23","StB11_24","StB12_1","StB12_2","StB12_3","StB12_4","StB12_5","StB12_6","StB12_7","StB12_8","StB12_9","StB12_10","StB12_11","StB12_12","StB12_13","StB12_14","StB12_15","StB12_16","StB12_17","StB12_18","StB12_19","StB12_20","StB12_21","StB12_22","StB12_23","StB12_24"]
[1,{"$f":"Sitze1","v":16},{"$f":"Sitze2","v":16},{"$f":"PSt!D58","v":6},{"$f":"PSt!E58","v":0},{"$f":"PSt!F58","v":3},{"$f":"PSt!G58","v":0},{"$f":"PSt!H58","v":0},{"$f":"PSt!I58","v":0},{"$f":"PSt!J58","v":0},{"$f":"PSt!K58","v":2},{"$f":"PSt!L58","v":0},{"$f":"PSt!M58","v":2},{"$f":"PSt!N58","v":0},{"$f":"PSt!O58","v":0},{"$f":"PSt!P58","v":0},{"$f":"PSt!Q58","v":0},{"$f":"PSt!R58","v":0},{"$f":"PSt!S58","v":0},{"$f":"PSt!T58","v":0},{"$f":"PSt!U58","v":0},{"$f":"PSt!V58","v":1},{"$f":"PSt!W58","v":0},{"$f":"PSt!X58","v":1},{"$f":"PSt!Y58","v":0},{"$f":"PSt!AP58","v":0},{"$f":"PSt!AQ58","v":0},{"$f":"PSt!D59","v":6},{"$f":"PSt!E59","v":0},{"$f":"PSt!F59","v":3},{"$f":"PSt!G59","v":0},{"$f":"PSt!H59","v":0},{"$f":"PSt!I59","v":0},{"$f":"PSt!J59","v":0},{"$f":"PSt!K59","v":2},{"$f":"PSt!L59","v":0},{"$f":"PSt!M59","v":2},{"$f":"PSt!N59","v":0},{"$f":"PSt!O59","v":0},{"$f":"PSt!P59","v":0},{"$f":"PSt!Q59","v":0},{"$f":"PSt!R59","v":0},{"$f":"PSt!S59","v":0},{"$f":"PSt!T59","v":0},{"$f":"PSt!U59","v":0},{"$f":"PSt!V59","v":2},{"$f":"PSt!W59","v":0},{"$f":"PSt!X59","v":1},{"$f":"PSt!Y59","v":0},{"$f":"PSt!AP59","v":0},{"$f":"PSt!AQ59","v":0},{"$f":"PSt!D4","v":"01a"},{"$f":"PSt!E4","v":"01b"},{"$f":"PSt!F4","v":"02a"},{"$f":"PSt!G4","v":"02b"},{"$f":"PSt!H4","v":"02c"},{"$f":"PSt!I4","v":"02d"},{"$f":"PSt!J4","v":"02e"},{"$f":"PSt!K4","v":"03a"},{"$f":"PSt!L4","v":"03b"},{"$f":"PSt!M4","v":"04a"},{"$f":"PSt!N4","v":"04b"},{"$f":"PSt!O4","v":"04c"},{"$f":"PSt!P4","v":"04d"},{"$f":"PSt!Q4","v":"04e"},{"$f":"PSt!R4","v":"04f"},{"$f":"PSt!S4","v":"04g"},{"$f":"PSt!T4","v":"04h"},{"$f":"PSt!U4","v":"04i"},{"$f":"PSt!V4","v":"05a"},{"$f":"PSt!W4","v":"05b"},{"$f":"PSt!X4","v":"06a"},{"$f":"PSt!Y4","v":"06b"},{"$f":"PSt!AP4","v":0},{"$f":"PSt!AQ4","v":0},{"$f":"PSt!D5","v":"SVP"},{"$f":"PSt!E5","v":"JSVP"},{"$f":"PSt!F5","v":"SP"},{"$f":"PSt!G5","v":"JUSO"},{"$f":"PSt!H5","v":"SP60+"},{"$f":"PSt!I5","v":"SPq*f"},{"$f":"PSt!J5","v":"SPMig"},{"$f":"PSt!K5","v":"FDP"},{"$f":"PSt!L5","v":"JF AG"},{"$f":"PSt!M5","v":"CVP"},{"$f":"PSt!N5","v":"CVPLA"},{"$f":"PSt!O5","v":"CVPCS"},{"$f":"PSt!P5","v":"CVPE"},{"$f":"PSt!Q5","v":"CVPAZ"},{"$f":"PSt!R5","v":"CVPBZ"},{"$f":"PSt!S5","v":"CVP#1"},{"$f":"PSt!T5","v":"CVPFA"},{"$f":"PSt!U5","v":"CVPFT"},{"$f":"PSt!V5","v":"Grüne"},{"$f":"PSt!W5","v":"JG"},{"$f":"PSt!X5","v":"glp"},{"$f":"PSt!Y5","v":"jglp"},{"$f":"PSt!AP5","v":0},{"$f":"PSt!AQ5","v":0},{"$f":"PSt!D7","v":1},{"$f":"PSt!E7","v":1},{"$f":"PSt!F7","v":2},{"$f":"PSt!G7","v":2},{"$f":"PSt!H7","v":2},{"$f":"PSt!I7","v":2},{"$f":"PSt!J7","v":2},{"$f":"PSt!K7","v":1},{"$f":"PSt!L7","v":1},{"$f":"PSt!M7","v":3},{"$f":"PSt!N7","v":3},{"$f":"PSt!O7","v":3},{"$f":"PSt!P7","v":3},{"$f":"PSt!Q7","v":3},{"$f":"PSt!R7","v":3},{"$f":"PSt!S7","v":3},{"$f":"PSt!T7","v":3},{"$f":"PSt!U7","v":3},{"$f":"PSt!V7","v":2},{"$f":"PSt!W7","v":2},{"$f":"PSt!X7","v":3},{"$f":"PSt!Y7","v":3},{"$f":"PSt!AP7","v":0},{"$f":"PSt!AQ7","v":0},{"$f":"PSt!D8","v":1},{"$f":"PSt!E8","v":1},{"$f":"PSt!F8","v":3},{"$f":"PSt!G8","v":3},{"$f":"PSt!H8","v":3},{"$f":"PSt!I8","v":3},{"$f":"PSt!J8","v":3},{"$f":"PSt!K8","v":2},{"$f":"PSt!L8","v":2},{"$f":"PSt!M8","v":5},{"$f":"PSt!N8","v":5},{"$f":"PSt!O8","v":5},{"$f":"PSt!P8","v":5},{"$f":"PSt!Q8","v":5},{"$f":"PSt!R8","v":5},{"$f":"PSt!S8","v":5},{"$f":"PSt!T8","v":5},{"$f":"PSt!U8","v":5},{"$f":"PSt!V8","v":4},{"$f":"PSt!W8","v":4},{"$f":"PSt!X8","v":6},{"$f":"PSt!Y8","v":6},{"$f":"PSt!AP8","v":0},{"$f":"PSt!AQ8","v":0},{"$f":"PSt!D10","v":1},{"$f":"PSt!E10","v":1},{"$f":"PSt!F10","v":2},{"$f":"PSt!G10","v":2},{"$f":"PSt!H10","v":2},{"$f":"PSt!I10","v":2},{"$f":"PSt!J10","v":2},{"$f":"PSt!K10","v":3},{"$f":"PSt!L10","v":3},{"$f":"PSt!M10","v":4},{"$f":"PSt!N10","v":4},{"$f":"PSt!O10","v":4},{"$f":"PSt!P10","v":4},{"$f":"PSt!Q10","v":4},{"$f":"PSt!R10","v":4},{"$f":"PSt!S10","v":4},{"$f":"PSt!T10","v":4},{"$f":"PSt!U10","v":4},{"$f":"PSt!V10","v":5},{"$f":"PSt!W10","v":5},{"$f":"PSt!X10","v":6},{"$f":"PSt!Y10","v":6},{"$f":"PSt!AP10","v":0},{"$f":"PSt!AQ10","v":0},{"$f":"PSt!D11","v":0},{"$f":"PSt!E11","v":0},{"$f":"PSt!F11","v":0},{"$f":"PSt!G11","v":0},{"$f":"PSt!H11","v":0},{"$f":"PSt!I11","v":0},{"$f":"PSt!J11","v":0},{"$f":"PSt!K11","v":0},{"$f":"PSt!L11","v":0},{"$f":"PSt!M11","v":0},{"$f":"PSt!N11","v":0},{"$f":"PSt!O11","v":0},{"$f":"PSt!P11","v":0},{"$f":"PSt!Q11","v":0},{"$f":"PSt!R11","v":0},{"$f":"PSt!S11","v":0},{"$f":"PSt!T11","v":0},{"$f":"PSt!U11","v":0},{"$f":"PSt!V11","v":0},{"$f":"PSt!W11","v":0},{"$f":"PSt!X11","v":0},{"$f":"PSt!Y11","v":0},{"$f":"PSt!AP11","v":0},{"$f":"PSt!AQ11","v":0},{"$f":"PSt!D13","v":93913},{"$f":"PSt!E13","v":1980},{"$f":"PSt!F13","v":71865},{"$f":"PSt!G13","v":3629},{"$f":"PSt!H13","v":1664},{"$f":"PSt!I13","v":2886},{"$f":"PSt!J13","v":2143},{"$f":"PSt!K13","v":60759},{"$f":"PSt!L13","v":2177},{"$f":"PSt!M13","v":16042},{"$f":"PSt!N13","v":1169},{"$f":"PSt!O13","v":1336},{"$f":"PSt!P13","v":962},{"$f":"PSt!Q13","v":1890},{"$f":"PSt!R13","v":577},{"$f":"PSt!S13","v":395},{"$f":"PSt!T13","v":442},{"$f":"PSt!U13","v":212},{"$f":"PSt!V13","v":39213},{"$f":"PSt!W13","v":4947},{"$f":"PSt!X13","v":29421},{"$f":"PSt!Y13","v":3698},{"$f":"PSt!AP13","v":0},{"$f":"PSt!AQ13","v":0},{"$f":"PSt!D14","v":153575},{"$f":"PSt!E14","v":4146},{"$f":"PSt!F14","v":91934},{"$f":"PSt!G14","v":5482},{"$f":"PSt!H14","v":3137},{"$f":"PSt!I14","v":5921},{"$f":"PSt!J14","v":3950},{"$f":"PSt!K14","v":82114},{"$f":"PSt!L14","v":5506},{"$f":"PSt!M14","v":56050},{"$f":"PSt!N14","v":4087},{"$f":"PSt!O14","v":1640},{"$f":"PSt!P14","v":5414},{"$f":"PSt!Q14","v":607},{"$f":"PSt!R14","v":6055},{"$f":"PSt!S14","v":668},{"$f":"PSt!T14","v":1100},{"$f":"PSt!U14","v":300},{"$f":"PSt!V14","v":56882},{"$f":"PSt!W14","v":8074},{"$f":"PSt!X14","v":52988},{"$f":"PSt!Y14","v":7771},{"$f":"PSt!AP14","v":0},{"$f":"PSt!AQ14","v":0},{"$f":"PSt!D15","v":112285},{"$f":"PSt!E15","v":3876},{"$f":"PSt!F15","v":39899},{"$f":"PSt!G15","v":2653},{"$f":"PSt!H15","v":1115},{"$f":"PSt!I15","v":1755},{"$f":"PSt!J15","v":1828},{"$f":"PSt!K15","v":43657},{"$f":"PSt!L15","v":1659},{"$f":"PSt!M15","v":28216},{"$f":"PSt!N15","v":4367},{"$f":"PSt!O15","v":735},{"$f":"PSt!P15","v":575},{"$f":"PSt!Q15","v":322},{"$f":"PSt!R15","v":514},{"$f":"PSt!S15","v":293},{"$f":"PSt!T15","v":5007},{"$f":"PSt!U15","v":135},{"$f":"PSt!V15","v":24248},{"$f":"PSt!W15","v":3548},{"$f":"PSt!X15","v":23886},{"$f":"PSt!Y15","v":4082},{"$f":"PSt!AP15","v":0},{"$f":"PSt!AQ15","v":0},{"$f":"PSt!D16","v":71631},{"$f":"PSt!E16","v":1771},{"$f":"PSt!F16","v":34821},{"$f":"PSt!G16","v":1782},{"$f":"PSt!H16","v":821},{"$f":"PSt!I16","v":1770},{"$f":"PSt!J16","v":1458},{"$f":"PSt!K16","v":34718},{"$f":"PSt!L16","v":1521},{"$f":"PSt!M16","v":14184},{"$f":"PSt!N16","v":1134},{"$f":"PSt!O16","v":367},{"$f":"PSt!P16","v":327},{"$f":"PSt!Q16","v":320},{"$f":"PSt!R16","v":557},{"$f":"PSt!S16","v":1354},{"$f":"PSt!T16","v":385},{"$f":"PSt!U16","v":353},{"$f":"PSt!V16","v":24094},{"$f":"PSt!W16","v":3159},{"$f":"PSt!X16","v":16238},{"$f":"PSt!Y16","v":2502},{"$f":"PSt!AP16","v":0},{"$f":"PSt!AQ16","v":0},{"$f":"PSt!D17","v":69421},{"$f":"PSt!E17","v":1367},{"$f":"PSt!F17","v":18294},{"$f":"PSt!G17","v":756},{"$f":"PSt!H17","v":594},{"$f":"PSt!I17","v":786},{"$f":"PSt!J17","v":522},{"$f":"PSt!K17","v":20039},{"$f":"PSt!L17","v":826},{"$f":"PSt!M17","v":5181},{"$f":"PSt!N17","v":1068},{"$f":"PSt!O17","v":261},{"$f":"PSt!P17","v":113},{"$f":"PSt!Q17","v":219},{"$f":"PSt!R17","v":152},{"$f":"PSt!S17","v":462},{"$f":"PSt!T17","v":163},{"$f":"PSt!U17","v":62},{"$f":"PSt!V17","v":11621},{"$f":"PSt!W17","v":1326},{"$f":"PSt!X17","v":7378},{"$f":"PSt!Y17","v":938},{"$f":"PSt!AP17","v":0},{"$f":"PSt!AQ17","v":0},{"$f":"PSt!D18","v":50455},{"$f":"PSt!E18","v":1454},{"$f":"PSt!F18","v":19397},{"$f":"PSt!G18","v":739},{"$f":"PSt!H18","v":409},{"$f":"PSt!I18","v":714},{"$f":"PSt!J18","v":518},{"$f":"PSt!K18","v":13290},{"$f":"PSt!L18","v":715},{"$f":"PSt!M18","v":14694},{"$f":"PSt!N18","v":1569},{"$f":"PSt!O18","v":213},{"$f":"PSt!P18","v":182},{"$f":"PSt!Q18","v":125},{"$f":"PSt!R18","v":330},{"$f":"PSt!S18","v":161},{"$f":"PSt!T18","v":146},{"$f":"PSt!U18","v":5510},{"$f":"PSt!V18","v":11808},{"$f":"PSt!W18","v":1465},{"$f":"PSt!X18","v":7746},{"$f":"PSt!Y18","v":1306},{"$f":"PSt!AP18","v":0},{"$f":"PSt!AQ18","v":0},{"$f":"PSt!D19","v":93689},{"$f":"PSt!E19","v":2417},{"$f":"PSt!F19","v":39922},{"$f":"PSt!G19","v":1614},{"$f":"PSt!H19","v":1070},{"$f":"PSt!I19","v":1661},{"$f":"PSt!J19","v":1346},{"$f":"PSt!K19","v":41935},{"$f":"PSt!L19","v":1335},{"$f":"PSt!M19","v":14523},{"$f":"PSt!N19","v":1240},{"$f":"PSt!O19","v":673},{"$f":"PSt!P19","v":298},{"$f":"PSt!Q19","v":375},{"$f":"PSt!R19","v":403},{"$f":"PSt!S19","v":1148},{"$f":"PSt!T19","v":464},{"$f":"PSt!U19","v":149},{"$f":"PSt!V19","v":23503},{"$f":"PSt!W19","v":3258},{"$f":"PSt!X19","v":21990},{"$f":"PSt!Y19","v":3021},{"$f":"PSt!AP19","v":0},{"$f":"PSt!AQ19","v":0},{"$f":"PSt!D20","v":59643},{"$f":"PSt!E20","v":2160},{"$f":"PSt!F20","v":14634},{"$f":"PSt!G20","v":800},{"$f":"PSt!H20","v":501},{"$f":"PSt!I20","v":876},{"$f":"PSt!J20","v":482},{"$f":"PSt!K20","v":15960},{"$f":"PSt!L20","v":674},{"$f":"PSt!M20","v":16892},{"$f":"PSt!N20","v":6267},{"$f":"PSt!O20","v":244},{"$f":"PSt!P20","v":383},{"$f":"PSt!Q20","v":197},{"$f":"PSt!R20","v":268},{"$f":"PSt!S20","v":188},{"$f":"PSt!T20","v":5781},{"$f":"PSt!U20","v":56},{"$f":"PSt!V20","v":11416},{"$f":"PSt!W20","v":1702},{"$f":"PSt!X20","v":10134},{"$f":"PSt!Y20","v":1545},{"$f":"PSt!AP20","v":0},{"$f":"PSt!AQ20","v":0},{"$f":"PSt!D21","v":50604},{"$f":"PSt!E21","v":1465},{"$f":"PSt!F21","v":28602},{"$f":"PSt!G21","v":1325},{"$f":"PSt!H21","v":1461},{"$f":"PSt!I21","v":1427},{"$f":"PSt!J21","v":981},{"$f":"PSt!K21","v":21081},{"$f":"PSt!L21","v":1875},{"$f":"PSt!M21","v":14511},{"$f":"PSt!N21","v":1027},{"$f":"PSt!O21","v":179},{"$f":"PSt!P21","v":181},{"$f":"PSt!Q21","v":129},{"$f":"PSt!R21","v":268},{"$f":"PSt!S21","v":144},{"$f":"PSt!T21","v":159},{"$f":"PSt!U21","v":3158},{"$f":"PSt!V21","v":15757},{"$f":"PSt!W21","v":2269},{"$f":"PSt!X21","v":14339},{"$f":"PSt!Y21","v":2134},{"$f":"PSt!AP21","v":0},{"$f":"PSt!AQ21","v":0},{"$f":"PSt!D22","v":102073},{"$f":"PSt!E22","v":2766},{"$f":"PSt!F22","v":41198},{"$f":"PSt!G22","v":1398},{"$f":"PSt!H22","v":961},{"$f":"PSt!I22","v":2461},{"$f":"PSt!J22","v":1442},{"$f":"PSt!K22","v":32776},{"$f":"PSt!L22","v":1296},{"$f":"PSt!M22","v":9292},{"$f":"PSt!N22","v":835},{"$f":"PSt!O22","v":271},{"$f":"PSt!P22","v":280},{"$f":"PSt!Q22","v":2348},{"$f":"PSt!R22","v":322},{"$f":"PSt!S22","v":369},{"$f":"PSt!T22","v":244},{"$f":"PSt!U22","v":59},{"$f":"PSt!V22","v":23609},{"$f":"PSt!W22","v":2563},{"$f":"PSt!X22","v":17697},{"$f":"PSt!Y22","v":2546},{"$f":"PSt!AP22","v":0},{"$f":"PSt!AQ22","v":0},{"$f":"PSt!D23","v":53869},{"$f":"PSt!E23","v":1190},{"$f":"PSt!F23","v":16164},{"$f":"PSt!G23","v":889},{"$f":"PSt!H23","v":546},{"$f":"PSt!I23","v":674},{"$f":"PSt!J23","v":522},{"$f":"PSt!K23","v":16187},{"$f":"PSt!L23","v":951},{"$f":"PSt!M23","v":14711},{"$f":"PSt!N23","v":1056},{"$f":"PSt!O23","v":177},{"$f":"PSt!P23","v":518},{"$f":"PSt!Q23","v":140},{"$f":"PSt!R23","v":4125},{"$f":"PSt!S23","v":157},{"$f":"PSt!T23","v":99},{"$f":"PSt!U23","v":228},{"$f":"PSt!V23","v":9878},{"$f":"PSt!W23","v":1319},{"$f":"PSt!X23","v":6358},{"$f":"PSt!Y23","v":1062},{"$f":"PSt!AP23","v":0},{"$f":"PSt!AQ23","v":0},{"$f":"PSt!D24","v":5489},{"$f":"PSt!E24","v":177},{"$f":"PSt!F24","v":3762},{"$f":"PSt!G24","v":665},{"$f":"PSt!H24","v":236},{"$f":"PSt!I24","v":501},{"$f":"PSt!J24","v":311},{"$f":"PSt!K24","v":3420},{"$f":"PSt!L24","v":261},{"$f":"PSt!M24","v":1599},{"$f":"PSt!N24","v":106},{"$f":"PSt!O24","v":82},{"$f":"PSt!P24","v":33},{"$f":"PSt!Q24","v":10},{"$f":"PSt!R24","v":134},{"$f":"PSt!S24","v":77},{"$f":"PSt!T24","v":89},{"$f":"PSt!U24","v":78},{"$f":"PSt!V24","v":5309},{"$f":"PSt!W24","v":1102},{"$f":"PSt!X24","v":3127},{"$f":"PSt!Y24","v":445},{"$f":"PSt!AP24","v":0},{"$f":"PSt!AQ24","v":0}]
[null,15,16,6,0,0,3,0,0,2,0,1,0,0,1,0,0,0,0,0,1,0,0,1,0,0,0,6,0,0,3,0,0,2,0,2,0,0,1,0,0,0,0,0,1,0,0,1,0,0,0,"01a","01b","01c","02a","02b","02c","03a","03b","04a","04b","04c","05a","05b","06a","06b","07","08","09","10","11","12a","12b",null,null,"SVP","JSVP","SVPI","SP","JUSO","Secon","FDP","JFDP","CVP","JCVP","CVPI","Grüne","JGrüne","EVP","JEVP","EDU","SD","BDP","SLB","PP","GLP","JGLP",null,null,1,1,1,2,2,2,3,3,4,4,4,5,5,5,5,1,null,4,4,null,5,5,null,null,1,1,1,{"$nulls":5},2,2,2,3,3,4,4,{"$nulls":5},5,5,null,null,1,1,1,2,2,2,3,3,4,4,4,5,5,5,5,1,null,4,4,null,5,5,null,null,1,1,1,{"$nulls":5},2,2,2,3,3,4,4,{"$nulls":5},5,5,null,null,100734,2053,309,67458,2521,1541,44382,2273,21206,1123,40,23953,4066,15134,1150,3903,1022,20368,2434,2839,17626,1488,null,null,170000,4948,495,103848,4401,2162,66244,3235,71782,5096,121,39604,5267,14836,1329,4394,1711,31862,1830,5207,36469,3709,null,null,108822,3129,277,47422,1948,966,31401,2294,39049,2387,72,16115,1949,5125,556,2151,1070,18828,922,2189,17867,1588,null,null,75252,1671,278,38595,1862,767,27776,1077,15995,1053,30,15437,2552,7473,673,3040,573,14660,981,1509,11356,1347,null,null,66902,1015,278,22025,893,373,18621,1011,6495,424,11,7371,959,7476,320,4117,1894,8851,1493,783,5192,440,null,null,49231,1010,89,20580,750,388,10171,781,21500,604,12,10005,960,2110,390,1002,485,9270,737,1050,5466,558,null,null,91823,1922,235,41146,1376,1495,29086,2662,14443,834,18,13508,2392,9066,974,2742,776,15660,1241,2163,13648,1100,null,null,54893,1274,182,18482,669,323,11101,1166,28249,1299,14,8431,1081,1533,241,919,658,9417,627,1013,7039,685,null,null,48713,1065,127,31587,997,478,15489,972,17988,727,16,14434,1436,2329,356,1959,857,11857,762,1275,8801,891,null,null,95461,2243,327,49607,2072,870,28682,1002,12935,1060,33,17644,1865,13255,1421,6572,940,20256,1287,2123,12135,1227,null,null,60400,1511,209,20452,772,363,11180,762,22996,572,22,6230,1109,1870,257,1004,271,6512,613,948,4646,383,null,null,6983,183,316,5604,431,316,3762,297,2543,134,81,3596,690,550,59,377,162,1190,160,175,1824,199]
[1]

{"sheet":"PSt","index":1,"n_rows":59,"n_cols":44,"rows_kept":59,"merged":[[0,3,1,43]]}
[{"$nulls":3},"Parteistimmenzahl (=Summe der Kandidaten- und Zusatzstimmen)"]
[]
[{"$nulls":3},"Liste","Liste","Liste","Liste","Liste","Liste","Liste","Liste","Liste","Liste","Liste","Liste","Liste","Liste","Liste","Liste","Liste","Liste","Liste","Liste","Liste","Liste","Liste","Liste","Liste","Liste","Liste","Liste","Liste","Liste","Liste","Liste","Liste","Liste","Liste","Liste","Liste","Liste","Liste","Liste","Total"]
[{"$nulls":3},"01a","01b","02a","02b","02c","02d","02e","03a","03b","04a","04b","04c","04d","04e","04f","04g","04h","04i","05a","05b","06a","06b","06c","07a","07b","07c","08a","08b","08c","09","10","11","12","13","14","15"]
[{"$nulls":3},"SVP","JSVP","SP","JUSO","SP60+","SPq*f","SPMig","FDP","JF AG","CVP","CVPLA","CVPCS","CVPE","CVPAZ","CVPBZ","CVP#1","CVPFA","CVPFT","Grüne","JG","glp","jglp","glp-u","BDP","JBDP","BDP3","EVP","*jevp","EVP+","EDU","PPAG","LOVB","FW AG","LS","T65+","DU"]
[null,"Variante 1"]
[null,"Listenverbindung",null,1,1,2,2,2,2,2,1,1,3,3,3,3,3,3,3,3,3,2,2,3,3,3,4,4,4,4,4,4,1,2,5,5,5,1]
[null,"Listenunterverbindungen",null,1,1,3,3,3,3,3,2,2,5,5,5,5,5,5,5,5,5,4,4,6,6,6,7,7,7,8,8,8]
[null,"Variante 2"]
[null,"Listenverbindung",null,1,1,2,2,2,2,2,3,3,4,4,4,4,4,4,4,4,4,5,5,6,6,6,7,7,7,8,8,8]
[null,"Listenunterverbindungen"]
[null,"Ausgangslage"]
[null,"Bezirk Aarau",null,{"v":93913,"d":"93,913"},{"v":1980,"d":"1,980"},{"v":71865,"d":"71,865"},{"v":3629,"d":"3,629"},{"v":1664,"d":"1,664"},{"v":2886,"d":"2,886"},{"v":2143,"d":"2,143"},{"v":60759,"d":"60,759"},{"v":2177,"d":"2,177"},{"v":16042,"d":"16,042"},{"v":1169,"d":"1,169"},{"v":1336,"d":"1,336"},962,{"v":1890,"d":"1,890"},577,395,442,212,{"v":39213,"d":"39,213"},{"v":4947,"d":"4,947"},{"v":29421,"d":"29,421"},{"v":3698,"d":"3,698"},{"v":1579,"d":"1,579"},{"v":8848,"d":"8,848"},{"v":1591,"d":"1,591"},855,{"v":16018,"d":"16,018"},{"v":1710,"d":"1,710"},951,{"v":3748,"d":"3,748"},{"v":1391,"d":"1,391"},490,772,563,{"v":6294,"d":"6,294"},767,{"$nulls":4},{"$f":"SUM(D13:AQ13)","v":{"v":386897,"d":"386,897"}}]
[null,"Bezirk Baden",null,{"v":153575,"d":"153,575"},{"v":4146,"d":"4,146"},{"v":91934,"d":"91,934"},{"v":5482,"d":"5,482"},{"v":3137,"d":"3,137"},{"v":5921,"d":"5,921"},{"v":3950,"d":"3,950"},{"v":82114,"d":"82,114"},{"v":5506,"d":"5,506"},{"v":56050,"d":"56,050"},{"v":4087,"d":"4,087"},{"v":1640,"d":"1,640"},{"v":5414,"d":"5,414"},607,{"v":6055,"d":"6,055"},668,{"v":1100,"d":"1,100"},300,{"v":56882,"d":"56,882"},{"v":8074,"d":"8,074"},{"v":52988,"d":"52,988"},{"v":7771,"d":"7,771"},{"v":2998,"d":"2,998"},{"v":17528,"d":"17,528"},{"v":2470,"d":"2,470"},{"v":1440,"d":"1,440"},{"v":16990,"d":"16,990"},{"v":2085,"d":"2,085"},{"v":1663,"d":"1,663"},{"v":3160,"d":"3,160"},{"v":1962,"d":"1,962"},787,{"v":1711,"d":"1,711"},{"v":1677,"d":"1,677"},{"v":7562,"d":"7,562"},{"v":2074,"d":"2,074"},{"$nulls":4},{"$f":"SUM(D14:AQ14)","v":{"v":621508,"d":"621,508"}}]
[null,"Bezirk Bremgarten",null,{"v":112285,"d":"112,285"},{"v":3876,"d":"3,876"},{"v":39899,"d":"39,899"},{"v":2653,"d":"2,653"},{"v":1115,"d":"1,115"},{"v":1755,"d":"1,755"},{"v":1828,"d":"1,828"},{"v":43657,"d":"43,657"},{"v":1659,"d":"1,659"},{"v":28216,"d":"28,216"},{"v":4367,"d":"4,367"},735,575,322,514,293,{"v":5007,"d":"5,007"},135,{"v":24248,"d":"24,248"},{"v":3548,"d":"3,548"},{"v":23886,"d":"23,886"},{"v":4082,"d":"4,082"},{"v":1182,"d":"1,182"},{"v":7501,"d":"7,501"},{"v":1236,"d":"1,236"},621,{"v":5102,"d":"5,102"},795,723,{"v":2210,"d":"2,210"},900,479,644,835,{"v":3850,"d":"3,850"},687,{"$nulls":4},{"v":331420,"d":"331,420"}]
[null,"Bezirk Brugg",null,{"v":71631,"d":"71,631"},{"v":1771,"d":"1,771"},{"v":34821,"d":"34,821"},{"v":1782,"d":"1,782"},821,{"v":1770,"d":"1,770"},{"v":1458,"d":"1,458"},{"v":34718,"d":"34,718"},{"v":1521,"d":"1,521"},{"v":14184,"d":"14,184"},{"v":1134,"d":"1,134"},367,327,320,557,{"v":1354,"d":"1,354"},385,353,{"v":24094,"d":"24,094"},{"v":3159,"d":"3,159"},{"v":16238,"d":"16,238"},{"v":2502,"d":"2,502"},757,{"v":6814,"d":"6,814"},912,333,{"v":10039,"d":"10,039"},{"v":1783,"d":"1,783"},424,{"v":2196,"d":"2,196"},895,266,511,601,{"v":3870,"d":"3,870"},786,{"$nulls":4},{"v":245454,"d":"245,454"}]
[null,"Bezirk Kulm",null,{"v":69421,"d":"69,421"},{"v":1367,"d":"1,367"},{"v":18294,"d":"18,294"},756,594,786,522,{"v":20039,"d":"20,039"},826,{"v":5181,"d":"5,181"},{"v":1068,"d":"1,068"},261,113,219,152,462,163,62,{"v":11621,"d":"11,621"},{"v":1326,"d":"1,326"},{"v":7378,"d":"7,378"},938,496,{"v":3775,"d":"3,775"},656,351,{"v":8985,"d":"8,985"},735,579,{"v":5212,"d":"5,212"},351,249,440,310,{"v":3116,"d":"3,116"},291,{"$nulls":4},{"v":167095,"d":"167,095"}]
[null,"Bezirk Laufenburg",null,{"v":50455,"d":"50,455"},{"v":1454,"d":"1,454"},{"v":19397,"d":"19,397"},739,409,714,518,{"v":13290,"d":"13,290"},715,{"v":14694,"d":"14,694"},{"v":1569,"d":"1,569"},213,182,125,330,161,146,{"v":5510,"d":"5,510"},{"v":11808,"d":"11,808"},{"v":1465,"d":"1,465"},{"v":7746,"d":"7,746"},{"v":1306,"d":"1,306"},757,{"v":3857,"d":"3,857"},480,283,{"v":2036,"d":"2,036"},710,91,{"v":1084,"d":"1,084"},672,200,316,302,{"v":2933,"d":"2,933"},204,{"$nulls":4},{"v":146871,"d":"146,871"}]
[null,"Bezirk Lenzburg",null,{"v":93689,"d":"93,689"},{"v":2417,"d":"2,417"},{"v":39922,"d":"39,922"},{"v":1614,"d":"1,614"},{"v":1070,"d":"1,070"},{"v":1661,"d":"1,661"},{"v":1346,"d":"1,346"},{"v":41935,"d":"41,935"},{"v":1335,"d":"1,335"},{"v":14523,"d":"14,523"},{"v":1240,"d":"1,240"},673,298,375,403,{"v":1148,"d":"1,148"},464,149,{"v":23503,"d":"23,503"},{"v":3258,"d":"3,258"},{"v":21990,"d":"21,990"},{"v":3021,"d":"3,021"},{"v":1007,"d":"1,007"},{"v":8215,"d":"8,215"},{"v":1408,"d":"1,408"},469,{"v":8375,"d":"8,375"},{"v":1224,"d":"1,224"},921,{"v":2303,"d":"2,303"},{"v":1074,"d":"1,074"},350,589,631,{"v":3371,"d":"3,371"},750,{"$nulls":4},{"v":286721,"d":"286,721"}]
[null,"Bezirk Muri",null,{"v":59643,"d":"59,643"},{"v":2160,"d":"2,160"},{"v":14634,"d":"14,634"},800,501,876,482,{"v":15960,"d":"15,960"},674,{"v":16892,"d":"16,892"},{"v":6267,"d":"6,267"},244,383,197,268,188,{"v":5781,"d":"5,781"},56,{"v":11416,"d":"11,416"},{"v":1702,"d":"1,702"},{"v":10134,"d":"10,134"},{"v":1545,"d":"1,545"},526,{"v":3766,"d":"3,766"},640,485,{"v":2261,"d":"2,261"},445,116,{"v":1044,"d":"1,044"},532,448,446,267,{"v":1330,"d":"1,330"},641,{"$nulls":4},{"v":163750,"d":"163,750"}]
[null,"Bezirk Rheinfelden",null,{"v":50604,"d":"50,604"},{"v":1465,"d":"1,465"},{"v":28602,"d":"28,602"},{"v":1325,"d":"1,325"},{"v":1461,"d":"1,461"},{"v":1427,"d":"1,427"},981,{"v":21081,"d":"21,081"},{"v":1875,"d":"1,875"},{"v":14511,"d":"14,511"},{"v":1027,"d":"1,027"},179,181,129,268,144,159,{"v":3158,"d":"3,158"},{"v":15757,"d":"15,757"},{"v":2269,"d":"2,269"},{"v":14339,"d":"14,339"},{"v":2134,"d":"2,134"},758,{"v":3895,"d":"3,895"},514,253,{"v":2920,"d":"2,920"},321,410,{"v":1919,"d":"1,919"},{"v":1123,"d":"1,123"},246,468,277,{"v":3718,"d":"3,718"},658,{"$nulls":4},{"v":180556,"d":"180,556"}]
[null,"Bezirk Zofingen",null,{"v":102073,"d":"102,073"},{"v":2766,"d":"2,766"},{"v":41198,"d":"41,198"},{"v":1398,"d":"1,398"},961,{"v":2461,"d":"2,461"},{"v":1442,"d":"1,442"},{"v":32776,"d":"32,776"},{"v":1296,"d":"1,296"},{"v":9292,"d":"9,292"},835,271,280,{"v":2348,"d":"2,348"},322,369,244,59,{"v":23609,"d":"23,609"},{"v":2563,"d":"2,563"},{"v":17697,"d":"17,697"},{"v":2546,"d":"2,546"},930,{"v":6632,"d":"6,632"},{"v":1032,"d":"1,032"},564,{"v":14503,"d":"14,503"},{"v":1810,"d":"1,810"},882,{"v":5487,"d":"5,487"},675,351,776,576,{"v":2962,"d":"2,962"},598,{"$nulls":4},{"v":284584,"d":"284,584"}]
[null,"Bezirk Zurzach",null,{"v":53869,"d":"53,869"},{"v":1190,"d":"1,190"},{"v":16164,"d":"16,164"},889,546,674,522,{"v":16187,"d":"16,187"},951,{"v":14711,"d":"14,711"},{"v":1056,"d":"1,056"},177,518,140,{"v":4125,"d":"4,125"},157,99,228,{"v":9878,"d":"9,878"},{"v":1319,"d":"1,319"},{"v":6358,"d":"6,358"},{"v":1062,"d":"1,062"},493,{"v":2928,"d":"2,928"},335,484,{"v":1847,"d":"1,847"},328,157,975,454,205,211,416,{"v":1741,"d":"1,741"},167,{"$nulls":4},{"v":141561,"d":"141,561"}]
[null,"Auslandschweizer",null,{"v":5489,"d":"5,489"},177,{"v":3762,"d":"3,762"},665,236,501,311,{"v":3420,"d":"3,420"},261,{"v":1599,"d":"1,599"},106,82,33,10,134,77,89,78,{"v":5309,"d":"5,309"},{"v":1102,"d":"1,102"},{"v":3127,"d":"3,127"},445,135,364,26,50,660,87,108,430,61,23,70,86,380,28,{"$nulls":4},{"v":29521,"d":"29,521"}]
[null,"Kanton",null,{"$f":"SUM(D13:D24)","v":{"v":916647,"d":"916,647"}},{"$f":"SUM(E13:E24)","v":{"v":24769,"d":"24,769"}},{"v":420492,"d":"420,492"},{"v":21732,"d":"21,732"},{"v":12515,"d":"12,515"},{"v":21432,"d":"21,432"},{"v":15503,"d":"15,503"},{"v":385936,"d":"385,936"},{"v":18796,"d":"18,796"},{"v":205895,"d":"205,895"},{"v":23925,"d":"23,925"},{"v":6178,"d":"6,178"},{"v":9266,"d":"9,266"},{"v":6682,"d":"6,682"},{"v":13705,"d":"13,705"},{"v":5416,"d":"5,416"},{"v":14079,"d":"14,079"},{"v":10300,"d":"10,300"},{"v":257338,"d":"257,338"},{"v":34732,"d":"34,732"},{"v":211302,"d":"211,302"},{"v":31050,"d":"31,050"},{"$f":"SUM(Z13:Z24)","v":{"v":11618,"d":"11,618"}},{"v":74123,"d":"74,123"},{"v":11300,"d":"11,300"},{"v":6188,"d":"6,188"},{"v":89736,"d":"89,736"},{"v":12033,"d":"12,033"},{"v":7025,"d":"7,025"},{"v":29768,"d":"29,768"},{"v":10090,"d":"10,090"},{"v":4094,"d":"4,094"},{"v":6954,"d":"6,954"},{"v":6541,"d":"6,541"},{"v":41127,"d":"41,127"},{"v":7651,"d":"7,651"},0,0,0,0,{"v":2985938,"d":"2,985,938"}]
[]
[null,"Prognose (% angenommene Veränderungen)"]
[null,"Bezirk Aarau",null,100,100,100,100,100,100,100,100,100,100,100,100,100,100,100,100,100,100,100,100,100,100,100,100,100,100,100,100,100,100,100,100,100,100,100,100,100,100,100,100]
[null,"Bezirk Baden",null,100,100,100,100,100,100,100,100,100,100,100,100,100,100,100,100,100,100,100,100,100,100,100,100,100,100,100,100,100,100,100,100,100,100,100,100,100,100,100,100]
[null,"Bezirk Bremgarten",null,100,100,100,100,100,100,100,100,100,100,100,100,100,100,100,100,100,100,100,100,100,100,100,100,100,100,100,100,100,100,100,100,100,100,100,100,100,100,100,100]
[null,"Bezirk Brugg",null,100,100,100,100,100,100,100,100,100,100,100,100,100,100,100,100,100,100,100,100,100,100,100,100,100,100,100,100,100,100,100,100,100,100,100,100,100,100,100,100]
[null,"Bezirk Kulm",null,100,100,100,100,100,100,100,100,100,100,100,100,100,100,100,100,100,100,100,100,100,100,100,100,100,100,100,100,100,100,100,100,100,100,100,100,100,100,100,100]
[null,"Bezirk Laufenburg",null,100,100,100,100,100,100,100,100,100,100,100,100,100,100,100,100,100,100,100,100,100,100,100,100,100,100,100,100,100,100,100,100,100,100,100,100,100,100,100,100]
[null,"Bezirk Lenzburg",null,100,100,100,100,100,100,100,100,100,100,100,100,100,100,100,100,100,100,100,100,100,100,100,100,100,100,100,100,100,100,100,100,100,100,100,100,100,100,100,100]
[null,"Bezirk Muri",null,100,100,100,100,100,100,100,100,100,100,100,100,100,100,100,100,100,100,100,100,100,100,100,100,100,100,100,100,100,100,100,100,100,100,100,100,100,100,100,100]
[null,"Bezirk Rheinfelden",null,100,100,100,100,100,100,100,100,100,100,100,100,100,100,100,100,100,100,100,100,100,100,100,100,100,100,100,100,100,100,100,100,100,100,100,100,100,100,100,100]
[null,"Bezirk Zofingen",null,100,100,100,100,100,100,100,100,100,100,100,100,100,100,100,100,100,100,100,100,100,100,100,100,100,100,100,100,100,100,100,100,100,100,100,100,100,100,100,100]
[null,"Bezirk Zurzach",null,100,100,100,100,100,100,100,100,100,100,100,100,100,100,100,100,100,100,100,100,100,100,100,100,100,100,100,100,100,100,100,100,100,100,100,100,100,100,100,100]
[null,"Auslandschweizer",null,100,100,100,100,100,100,100,100,100,100,100,100,100,100,100,100,100,100,100,100,100,100,100,100,100,100,100,100,100,100,100,100,100,100,100,100,100,100,100,100]
[null,"Stimmen (Basis für die Berechnung der Sitzzuteilung)"]
[null,"Bezirk Aarau",null,{"v":93913,"d":"93,913"},{"v":1980,"d":"1,980"},{"v":71865,"d":"71,865"},{"v":3629,"d":"3,629"},{"v":1664,"d":"1,664"},{"v":2886,"d":"2,886"},{"v":2143,"d":"2,143"},{"v":60759,"d":"60,759"},{"v":2177,"d":"2,177"},{"v":16042,"d":"16,042"},{"v":1169,"d":"1,169"},{"v":1336,"d":"1,336"},962,{"v":1890,"d":"1,890"},577,395,442,212,{"v":39213,"d":"39,213"},{"v":4947,"d":"4,947"},{"v":29421,"d":"29,421"},{"v":3698,"d":"3,698"},{"v":1579,"d":"1,579"},{"v":8848,"d":"8,848"},{"v":1591,"d":"1,591"},855,{"v":16018,"d":"16,018"},{"v":1710,"d":"1,710"},951,{"v":3748,"d":"3,748"},{"v":1391,"d":"1,391"},490,772,563,{"v":6294,"d":"6,294"},767,{"$nulls":4},{"$f":"SUM(D41:AQ41)","v":{"v":386897,"d":"386,897"}}]
[null,"Bezirk Baden",null,{"v":153575,"d":"153,575"},{"v":4146,"d":"4,146"},{"v":91934,"d":"91,934"},{"v":5482,"d":"5,482"},{"v":3137,"d":"3,137"},{"v":5921,"d":"5,921"},{"v":3950,"d":"3,950"},{"v":82114,"d":"82,114"},{"v":5506,"d":"5,506"},{"v":56050,"d":"56,050"},{"v":4087,"d":"4,087"},{"v":1640,"d":"1,640"},{"v":5414,"d":"5,414"},607,{"v":6055,"d":"6,055"},668,{"v":1100,"d":"1,100"},300,{"v":56882,"d":"56,882"},{"v":8074,"d":"8,074"},{"v":52988,"d":"52,988"},{"v":7771,"d":"7,771"},{"v":2998,"d":"2,998"},{"v":17528,"d":"17,528"},{"v":2470,"d":"2,470"},{"v":1440,"d":"1,440"},{"v":16990,"d":"16,990"},{"v":2085,"d":"2,085"},{"v":1663,"d":"1,663"},{"v":3160,"d":"3,160"},{"v":1962,"d":"1,962"},787,{"v":1711,"d":"1,711"},{"v":1677,"d":"1,677"},{"v":7562,"d":"7,562"},{"v":2074,"d":"2,074"},{"$nulls":4},{"$f":"SUM(D42:AQ42)","v":{"v":621508,"d":"621,508"}}]
[null,"Bezirk Bremgarten",null,{"v":112285,"d":"112,285"},{"v":3876,"d":"3,876"},{"v":39899,"d":"39,899"},{"v":2653,"d":"2,653"},{"v":1115,"d":"1,115"},{"v":1755,"d":"1,755"},{"v":1828,"d":"1,828"},{"v":43657,"d":"43,657"},{"v":1659,"d":"1,659"},{"v":28216,"d":"28,216"},{"v":4367,"d":"4,367"},735,575,322,514,293,{"v":5007,"d":"5,007"},135,{"v":24248,"d":"24,248"},{"v":3548,"d":"3,548"},{"v":23886,"d":"23,886"},{"v":4082,"d":"4,082"},{"v":1182,"d":"1,182"},{"v":7501,"d":"7,501"},{"v":1236,"d":"1,236"},621,{"v":5102,"d":"5,102"},795,723,{"v":2210,"d":"2,210"},900,479,644,835,{"v":3850,"d":"3,850"},687,{"$nulls":4},{"v":331420,"d":"331,420"}]
[null,"Bezirk Brugg",null,{"v":71631,"d":"71,631"},{"v":1771,"d":"1,771"},{"v":34821,"d":"34,821"},{"v":1782,"d":"1,782"},821,{"v":1770,"d":"1,770"},{"v":1458,"d":"1,458"},{"v":34718,"d":"34,718"},{"v":1521,"d":"1,521"},{"v":14184,"d":"14,184"},{"v":1134,"d":"1,134"},367,327,320,557,{"v":1354,"d":"1,354"},385,353,{"v":24094,"d":"24,094"},{"v":3159,"d":"3,159"},{"v":16238,"d":"16,238"},{"v":2502,"d":"2,502"},757,{"v":6814,"d":"6,814"},912,333,{"v":10039,"d":"10,039"},{"v":1783,"d":"1,783"},424,{"v":2196,"d":"2,196"},895,266,511,601,{"v":3870,"d":"3,870"},786,{"$nulls":4},{"v":245454,"d":"245,454"}]
[null,"Bezirk Kulm",null,{"v":69421,"d":"69,421"},{"v":1367,"d":"1,367"},{"v":18294,"d":"18,294"},756,594,786,522,{"v":20039,"d":"20,039"},826,{"v":5181,"d":"5,181"},{"v":1068,"d":"1,068"},261,113,219,152,462,163,62,{"v":11621,"d":"11,621"},{"v":1326,"d":"1,326"},{"v":7378,"d":"7,378"},938,496,{"v":3775,"d":"3,775"},656,351,{"v":8985,"d":"8,985"},735,579,{"v":5212,"d":"5,212"},351,249,440,310,{"v":3116,"d":"3,116"},291,{"$nulls":4},{"v":167095,"d":"167,095"}]
[null,"Bezirk Laufenburg",null,{"v":50455,"d":"50,455"},{"v":1454,"d":"1,454"},{"v":19397,"d":"19,397"},739,409,714,518,{"v":13290,"d":"13,290"},715,{"v":14694,"d":"14,694"},{"v":1569,"d":"1,569"},213,182,125,330,161,146,{"v":5510,"d":"5,510"},{"v":11808,"d":"11,808"},{"v":1465,"d":"1,465"},{"v":7746,"d":"7,746"},{"v":1306,"d":"1,306"},757,{"v":3857,"d":"3,857"},480,283,{"v":2036,"d":"2,036"},710,91,{"v":1084,"d":"1,084"},672,200,316,302,{"v":2933,"d":"2,933"},204,{"$nulls":4},{"v":146871,"d":"146,871"}]
[null,"Bezirk Lenzburg",null,{"v":93689,"d":"93,689"},{"v":2417,"d":"2,417"},{"v":39922,"d":"39,922"},{"v":1614,"d":"1,614"},{"v":1070,"d":"1,070"},{"v":1661,"d":"1,661"},{"v":1346,"d":"1,346"},{"v":41935,"d":"41,935"},{"v":1335,"d":"1,335"},{"v":14523,"d":"14,523"},{"v":1240,"d":"1,240"},673,298,375,403,{"v":1148,"d":"1,148"},464,149,{"v":23503,"d":"23,503"},{"v":3258,"d":"3,258"},{"v":21990,"d":"21,990"},{"v":3021,"d":"3,021"},{"v":1007,"d":"1,007"},{"v":8215,"d":"8,215"},{"v":1408,"d":"1,408"},469,{"v":8375,"d":"8,375"},{"v":1224,"d":"1,224"},921,{"v":2303,"d":"2,303"},{"v":1074,"d":"1,074"},350,589,631,{"v":3371,"d":"3,371"},750,{"$nulls":4},{"v":286721,"d":"286,721"}]
[null,"Bezirk Muri",null,{"v":59643,"d":"59,643"},{"v":2160,"d":"2,160"},{"v":14634,"d":"14,634"},800,501,876,482,{"v":15960,"d":"15,960"},674,{"v":16892,"d":"16,892"},{"v":6267,"d":"6,267"},244,383,197,268,188,{"v":5781,"d":"5,781"},56,{"v":11416,"d":"11,416"},{"v":1702,"d":"1,702"},{"v":10134,"d":"10,134"},{"v":1545,"d":"1,545"},526,{"v":3766,"d":"3,766"},640,485,{"v":2261,"d":"2,261"},445,116,{"v":1044,"d":"1,044"},532,448,446,267,{"v":1330,"d":"1,330"},641,{"$nulls":4},{"v":163750,"d":"163,750"}]
[null,"Bezirk Rheinfelden",null,{"v":50604,"d":"50,604"},{"v":1465,"d":"1,465"},{"v":28602,"d":"28,602"},{"v":1325,"d":"1,325"},{"v":1461,"d":"1,461"},{"v":1427,"d":"1,427"},981,{"v":21081,"d":"21,081"},{"v":1875,"d":"1,875"},{"v":14511,"d":"14,511"},{"v":1027,"d":"1,027"},179,181,129,268,144,159,{"v":3158,"d":"3,158"},{"v":15757,"d":"15,757"},{"v":2269,"d":"2,269"},{"v":14339,"d":"14,339"},{"v":2134,"d":"2,134"},758,{"v":3895,"d":"3,895"},514,253,{"v":2920,"d":"2,920"},321,410,{"v":1919,"d":"1,919"},{"v":1123,"d":"1,123"},246,468,277,{"v":3718,"d":"3,718"},658,{"$nulls":4},{"v":180556,"d":"180,556"}]
[null,"Bezirk Zofingen",null,{"v":102073,"d":"102,073"},{"v":2766,"d":"2,766"},{"v":41198,"d":"41,198"},{"v":1398,"d":"1,398"},961,{"v":2461,"d":"2,461"},{"v":1442,"d":"1,442"},{"v":32776,"d":"32,776"},{"v":1296,"d":"1,296"},{"v":9292,"d":"9,292"},835,271,280,{"v":2348,"d":"2,348"},322,369,244,59,{"v":23609,"d":"23,609"},{"v":2563,"d":"2,563"},{"v":17697,"d":"17,697"},{"v":2546,"d":"2,546"},930,{"v":6632,"d":"6,632"},{"v":1032,"d":"1,032"},564,{"v":14503,"d":"14,503"},{"v":1810,"d":"1,810"},882,{"v":5487,"d":"5,487"},675,351,776,576,{"v":2962,"d":"2,962"},598,{"$nulls":4},{"v":284584,"d":"284,584"}]
[null,"Bezirk Zurzach",null,{"v":53869,"d":"53,869"},{"v":1190,"d":"1,190"},{"v":16164,"d":"16,164"},889,546,674,522,{"v":16187,"d":"16,187"},951,{"v":14711,"d":"14,711"},{"v":1056,"d":"1,056"},177,518,140,{"v":4125,"d":"4,125"},157,99,228,{"v":9878,"d":"9,878"},{"v":1319,"d":"1,319"},{"v":6358,"d":"6,358"},{"v":1062,"d":"1,062"},493,{"v":2928,"d":"2,928"},335,484,{"v":1847,"d":"1,847"},328,157,975,454,205,211,416,{"v":1741,"d":"1,741"},167,{"$nulls":4},{"v":141561,"d":"141,561"}]
[null,"Auslandschweizer",null,{"v":5489,"d":"5,489"},177,{"v":3762,"d":"3,762"},665,236,501,311,{"v":3420,"d":"3,420"},261,{"v":1599,"d":"1,599"},106,82,33,10,134,77,89,78,{"v":5309,"d":"5,309"},{"v":1102,"d":"1,102"},{"v":3127,"d":"3,127"},445,135,364,26,50,660,87,108,430,61,23,70,86,380,28,{"$nulls":4},{"v":29521,"d":"29,521"}]
[null,"Kanton",null,{"$f":"SUM(D41:D52)","v":{"v":916647,"d":"916,647"}},{"$f":"SUM(E41:E52)","v":{"v":24769,"d":"24,769"}},{"v":420492,"d":"420,492"},{"v":21732,"d":"21,732"},{"v":12515,"d":"12,515"},{"v":21432,"d":"21,432"},{"v":15503,"d":"15,503"},{"v":385936,"d":"385,936"},{"v":18796,"d":"18,796"},{"v":205895,"d":"205,895"},{"v":23925,"d":"23,925"},{"v":6178,"d":"6,178"},{"v":9266,"d":"9,266"},{"v":6682,"d":"6,682"},{"v":13705,"d":"13,705"},{"v":5416,"d":"5,416"},{"v":14079,"d":"14,079"},{"v":10300,"d":"10,300"},{"v":257338,"d":"257,338"},{"v":34732,"d":"34,732"},{"v":211302,"d":"211,302"},{"v":31050,"d":"31,050"},{"v":11618,"d":"11,618"},{"v":74123,"d":"74,123"},{"v":11300,"d":"11,300"},{"v":6188,"d":"6,188"},{"v":89736,"d":"89,736"},{"v":12033,"d":"12,033"},{"v":7025,"d":"7,025"},{"v":29768,"d":"29,768"},{"v":10090,"d":"10,090"},{"v":4094,"d":"4,094"},{"v":6954,"d":"6,954"},{"v":6541,"d":"6,541"},{"v":41127,"d":"41,127"},{"v":7651,"d":"7,651"},0,0,0,0,{"v":2985938,"d":"2,985,938"}]
[]
[null,"Sitzzuteilung aufgrund der Stimmen gemäss Ausgangslage ohne Berücksichtigung der Prognose"]
[]
[null,"Sitzzuteilung:","Sitze",{"$f":"D4","v":"01a"},{"$f":"E4","v":"01b"},"02a","02b","02c","02d","02e","03a","03b","04a","04b","04c","04d","04e","04f","04g","04h","04i","05a","05b","06a","06b","06c","07a","07b","07c","08a","08b","08c","09","10","11","12","13","14","15",0,0,0,{"$f":"AQ4","v":0},"Total"]
[null,"Variante 1",16,{"v":6,"d":"6.00"},{"v":0,"d":"0.00"},{"v":3,"d":"3.00"},{"v":0,"d":"0.00"},{"v":0,"d":"0.00"},{"v":0,"d":"0.00"},{"v":0,"d":"0.00"},{"v":2,"d":"2.00"},{"v":0,"d":"0.00"},{"v":2,"d":"2.00"},{"v":0,"d":"0.00"},{"v":0,"d":"0.00"},{"v":0,"d":"0.00"},{"v":0,"d":"0.00"},{"v":0,"d":"0.00"},{"v":0,"d":"0.00"},{"v":0,"d":"0.00"},{"v":0,"d":"0.00"},{"v":1,"d":"1.00"},{"v":0,"d":"0.00"},{"v":1,"d":"1.00"},{"v":0,"d":"0.00"},{"v":0,"d":"0.00"},{"v":0,"d":"0.00"},{"v":0,"d":"0.00"},{"v":0,"d":"0.00"},{"v":1,"d":"1.00"},{"v":0,"d":"0.00"},{"v":0,"d":"0.00"},{"v":0,"d":"0.00"},{"v":0,"d":"0.00"},{"v":0,"d":"0.00"},{"v":0,"d":"0.00"},{"v":0,"d":"0.00"},{"v":0,"d":"0.00"},{"v":0,"d":"0.00"},{"v":0,"d":"0.00"},{"v":0,"d":"0.00"},{"v":0,"d":"0.00"},{"v":0,"d":"0.00"},{"v":16,"d":"16.00"}]
[null,"Variante 2",16,{"v":6,"d":"6.00"},{"v":0,"d":"0.00"},{"v":3,"d":"3.00"},{"v":0,"d":"0.00"},{"v":0,"d":"0.00"},{"v":0,"d":"0.00"},{"v":0,"d":"0.00"},{"v":2,"d":"2.00"},{"v":0,"d":"0.00"},{"v":2,"d":"2.00"},{"v":0,"d":"0.00"},{"v":0,"d":"0.00"},{"v":0,"d":"0.00"},{"v":0,"d":"0.00"},{"v":0,"d":"0.00"},{"v":0,"d":"0.00"},{"v":0,"d":"0.00"},{"v":0,"d":"0.00"},{"v":2,"d":"2.00"},{"v":0,"d":"0.00"},{"v":1,"d":"1.00"},{"v":0,"d":"0.00"},{"v":0,"d":"0.00"},{"v":0,"d":"0.00"},{"v":0,"d":"0.00"},{"v":0,"d":"0.00"},{"v":0,"d":"0.00"},{"v":0,"d":"0.00"},{"v":0,"d":"0.00"},{"v":0,"d":"0.00"},{"v":0,"d":"0.00"},{"v":0,"d":"0.00"},{"v":0,"d":"0.00"},{"v":0,"d":"0.00"},{"v":0,"d":"0.00"},{"v":0,"d":"0.00"},{"v":0,"d":"0.00"},{"v":0,"d":"0.00"},{"v":0,"d":"0.00"},{"v":0,"d":"0.00"},{"v":16,"d":"16.00"}]

{"sheet":"Variante1","index":2,"n_rows":320,"n_cols":17,"rows_kept":320,"merged":[[6,0,6,3],[6,4,6,11],[7,4,7,11],[8,4,10,4],[8,5,10,5],[8,6,10,6],[8,7,10,7],[8,8,10,8],[8,9,10,9],[8,10,10,10],[8,11,10,11],[8,12,10,12],[8,13,10,13],[8,14,10,14],[8,15,10,15],[8,16,10,16],[8,17,10,17],[63,0,63,9],[65,0,65,9],[78,0,78,9],[85,0,85,9],[94,0,94,9],[107,0,107,9],[114,0,114,9],[124,0,124,9],[131,0,131,9],[140,0,140,9],[147,0,147,9],[156,0,156,9],[163,0,163,9],[172,0,172,9],[179,0,179,9],[191,0,191,9],[198,0,198,9],[207,0,207,9],[214,0,214,9],[230,0,230,9],[237,0,237,9],[246,0,246,9],[253,0,253,9],[263,0,263,9],[270,0,270,9],[280,0,280,7]]}
["Erneuerungswahl des Nationalrats"]
[]
[]
["A. Parteistimmenzahl"]
[]
[]
["Stimmenzahl",{"$nulls":3},"Parteistimmenzahl der verbundenen"]
[{"$nulls":4},"bzw. unterverbundenen Listen"]
[{"$nulls":4},"01a, 01b, 03a, 03b, 09, 14","02a, 02b, 02c, 02d, 02e, 05a, 05b, 10","04a, 04b, 04c, 04d, 04e, 04f, 04g, 04h, 04i, 06a, 06b, 06c","07a, 07b, 07c, 08a, 08b, 08c","11, 12, 13","01a, 01b","03a, 03b","02a, 02b, 02c, 02d, 02e","05a, 05b","04a, 04b, 04c, 04d, 04e, 04f, 04g, 04h, 04i","06a, 06b, 06c","07a, 07b, 07c","08a, 08b, 08c"]
["Liste",null,null,"Total"]
[]
[]
[]
["Liste 01a",null,null,{"v":916647,"d":"916,647"},{"v":916647,"d":"916,647"},{"$nulls":4},{"v":916647,"d":"916,647"}]
["Liste 01b",null,null,{"v":24769,"d":"24,769"},{"v":24769,"d":"24,769"},{"$nulls":4},{"v":24769,"d":"24,769"}]
["Liste 02a",null,null,{"v":420492,"d":"420,492"},null,{"v":420492,"d":"420,492"},{"$nulls":5},{"v":420492,"d":"420,492"}]
["Liste 02b",null,null,{"v":21732,"d":"21,732"},null,{"v":21732,"d":"21,732"},{"$nulls":5},{"v":21732,"d":"21,732"}]
["Liste 02c",null,null,{"v":12515,"d":"12,515"},null,{"v":12515,"d":"12,515"},{"$nulls":5},{"v":12515,"d":"12,515"}]
["Liste 02d",null,null,{"v":21432,"d":"21,432"},null,{"v":21432,"d":"21,432"},{"$nulls":5},{"v":21432,"d":"21,432"}]
["Liste 02e",null,null,{"v":15503,"d":"15,503"},null,{"v":15503,"d":"15,503"},{"$nulls":5},{"v":15503,"d":"15,503"}]
["Liste 03a",null,null,{"v":385936,"d":"385,936"},{"v":385936,"d":"385,936"},{"$nulls":5},{"v":385936,"d":"385,936"}]
["Liste 03b",null,null,{"v":18796,"d":"18,796"},{"v":18796,"d":"18,796"},{"$nulls":5},{"v":18796,"d":"18,796"}]
["Liste 04a",null,null,{"v":205895,"d":"205,895"},null,null,{"v":205895,"d":"205,895"},{"$nulls":6},{"v":205895,"d":"205,895"}]
["Liste 04b",null,null,{"v":23925,"d":"23,925"},null,null,{"v":23925,"d":"23,925"},{"$nulls":6},{"v":23925,"d":"23,925"}]
["Liste 04c",null,null,{"v":6178,"d":"6,178"},null,null,{"v":6178,"d":"6,178"},{"$nulls":6},{"v":6178,"d":"6,178"}]
["Liste 04d",null,null,{"v":9266,"d":"9,266"},null,null,{"v":9266,"d":"9,266"},{"$nulls":6},{"v":9266,"d":"9,266"}]
["Liste 04e",null,null,{"v":6682,"d":"6,682"},null,null,{"v":6682,"d":"6,682"},{"$nulls":6},{"v":6682,"d":"6,682"}]
["Liste 04f",null,null,{"v":13705,"d":"13,705"},null,null,{"v":13705,"d":"13,705"},{"$nulls":6},{"v":13705,"d":"13,705"}]
["Liste 04g",null,null,{"v":5416,"d":"5,416"},null,null,{"v":5416,"d":"5,416"},{"$nulls":6},{"v":5416,"d":"5,416"}]
["Liste 04h",null,null,{"v":14079,"d":"14,079"},null,null,{"v":14079,"d":"14,079"},{"$nulls":6},{"v":14079,"d":"14,079"}]
["Liste 04i",null,null,{"v":10300,"d":"10,300"},null,null,{"v":10300,"d":"10,300"},{"$nulls":6},{"v":10300,"d":"10,300"}]
["Liste 05a",null,null,{"v":257338,"d":"257,338"},null,{"v":257338,"d":"257,338"},{"$nulls":6},{"v":257338,"d":"257,338"}]
["Liste 05b",null,null,{"v":34732,"d":"34,732"},null,{"v":34732,"d":"34,732"},{"$nulls":6},{"v":34732,"d":"34,732"}]
["Liste 06a",null,null,{"v":211302,"d":"211,302"},null,null,{"v":211302,"d":"211,302"},{"$nulls":7},{"v":211302,"d":"211,302"}]
["Liste 06b",null,null,{"v":31050,"d":"31,050"},null,null,{"v":31050,"d":"31,050"},{"$nulls":7},{"v":31050,"d":"31,050"}]
["Liste 06c",null,null,{"v":11618,"d":"11,618"},null,null,{"v":11618,"d":"11,618"},{"$nulls":7},{"v":11618,"d":"11,618"}]
["Liste 07a",null,null,{"v":74123,"d":"74,123"},{"$nulls":3},{"v":74123,"d":"74,123"},{"$nulls":7},{"v":74123,"d":"74,123"}]
["Liste 07b",null,null,{"v":11300,"d":"11,300"},{"$nulls":3},{"v":11300,"d":"11,300"},{"$nulls":7},{"v":11300,"d":"11,300"}]
["Liste 07c",null,null,{"v":6188,"d":"6,188"},{"$nulls":3},{"v":6188,"d":"6,188"},{"$nulls":7},{"v":6188,"d":"6,188"}]
["Liste 08a",null,null,{"v":89736,"d":"89,736"},{"$nulls":3},{"v":89736,"d":"89,736"},{"$nulls":8},{"v":89736,"d":"89,736"}]
["Liste 08b",null,null,{"v":12033,"d":"12,033"},{"$nulls":3},{"v":12033,"d":"12,033"},{"$nulls":8},{"v":12033,"d":"12,033"}]
["Liste 08c",null,null,{"v":7025,"d":"7,025"},{"$nulls":3},{"v":7025,"d":"7,025"},{"$nulls":8},{"v":7025,"d":"7,025"}]
["Liste 09",null,null,{"v":29768,"d":"29,768"},{"v":29768,"d":"29,768"}]
["Liste 10",null,null,{"v":10090,"d":"10,090"},null,{"v":10090,"d":"10,090"}]
["Liste 11",null,null,{"v":4094,"d":"4,094"},{"$nulls":4},{"v":4094,"d":"4,094"}]
["Liste 12",null,null,{"v":6954,"d":"6,954"},{"$nulls":4},{"v":6954,"d":"6,954"}]
["Liste 13",null,null,{"v":6541,"d":"6,541"},{"$nulls":4},{"v":6541,"d":"6,541"}]
["Liste 14",null,null,{"v":41127,"d":"41,127"},{"v":41127,"d":"41,127"}]
["Liste 15",null,null,{"v":7651,"d":"7,651"}]
[]
[{"$nulls":3},{"v":2985938,"d":"2,985,938"},{"v":1417043,"d":"1,417,043"},{"v":793834,"d":"793,834"},{"v":549416,"d":"549,416"},{"v":200405,"d":"200,405"},{"v":17589,"d":"17,589"},{"v":941416,"d":"941,416"},{"v":404732,"d":"404,732"},{"v":491674,"d":"491,674"},{"v":292070,"d":"292,070"},{"v":295446,"d":"295,446"},{"v":253970,"d":"253,970"},{"v":91611,"d":"91,611"},{"v":108794,"d":"108,794"}]
[]
[]
["Bestimmung der Verteilungszahl:",{"$nulls":4},"Gesamtzahl der gültigen"]
[{"$nulls":5},"Parteistimmen:",null,null,{"v":2985938,"d":"2,985,938"}]
[{"$nulls":5},"Zahl der Mandate + 1:",null,null,17]
[{"$nulls":5},"Verteilungszahl:",null,null,{"v":175644,"d":"175,644"}]
[]
["(Anmerkung: Die Gesamtzahl der gültigen Parteistimmen wird durch die um eins vermehrte Zahl"]
["der zu vergebenden Sitze geteilt. Die nächsthöhere ganze Zahl heisst Verteilungszahl.)"]
[]
[]
[]
["B. Verteilung der Sitze auf die einzelnen Listen oder Listengruppen bei verbundenen Listen"]
[]
["Erste Verteilung"]
[]
["Liste oder Listengruppe:",{"$nulls":4},"Stimmenzahl:",null,"Verteilungszahl:",null,"Zahl der Sitze:"]
["Listengruppe 01a, 01b, 03a, 03b, 09, 14",{"$nulls":4},{"v":1417043,"d":"1,417,043"},":",{"v":175644,"d":"175,644"},"=",8]
["Listengruppe 02a, 02b, 02c, 02d, 02e, 05a, 05b, 10",{"$nulls":4},{"v":793834,"d":"793,834"},":",{"v":175644,"d":"175,644"},"=",4]
["Listengruppe 04a, 04b, 04c, 04d, 04e, 04f, 04g, 04h, 04i, 06a, 06b, 06c",{"$nulls":4},{"v":549416,"d":"549,416"},":",{"v":175644,"d":"175,644"},"=",3]
["Listengruppe 07a, 07b, 07c, 08a, 08b, 08c",{"$nulls":4},{"v":200405,"d":"200,405"},":",{"v":175644,"d":"175,644"},"=",1]
["Listengruppe 11, 12, 13",{"$nulls":4},{"v":17589,"d":"17,589"},":",{"v":175644,"d":"175,644"},"=",0]
["Liste 15",{"$nulls":4},{"v":7651,"d":"7,651"},":",{"v":175644,"d":"175,644"},"=",0]
[{"$nulls":9},16]
[]
[]
[]
["C.1 Verteilung der Sitze innerhalb der verbundenen Listen 01a, 01b, 03a, 03b, 09, 14 (8 Sitze)"]
[]
["Bestimmung der Verteilungszahl:",{"$nulls":4},"Gesamtstimmenzahl"]
[{"$nulls":5},"der Listengruppe:",null,null,{"v":1417043,"d":"1,417,043"}]
[{"$nulls":5},"Zahl der erworbenen Sitze + 1:",null,null,9]
[{"$nulls":5},"Verteilungszahl der Listengruppe:",null,null,{"v":157450,"d":"157,450"}]
[]
["Erste Verteilung"]
[]
["Liste oder Listengruppe:",{"$nulls":4},"Stimmenzahl:",null,"Verteilungszahl:",null,"Zahl der Sitze:"]
["Listengruppe 01a, 01b",{"$nulls":4},{"v":941416,"d":"941,416"},":",{"v":157450,"d":"157,450"},"=",5]
["Listengruppe 03a, 03b",{"$nulls":4},{"v":404732,"d":"404,732"},":",{"v":157450,"d":"157,450"},"=",2]
["Liste 09",{"$nulls":4},{"v":29768,"d":"29,768"},":",{"v":157450,"d":"157,450"},"=",0]
["Liste 14",{"$nulls":4},{"v":41127,"d":"41,127"},":",{"v":157450,"d":"157,450"},"=",0]
[{"$nulls":9},7]
[]
["Zweite Verteilung"]
[]
[{"$nulls":7},"Sitze der ersten"]
["Liste oder Listengruppe:",{"$nulls":4},"Stimmenzahl:",null,"Verteilung + 1:",null,"Quotient:"]
["Listengruppe 01a, 01b",{"$nulls":4},{"v":941416,"d":"941,416"},":",6,"=",{"v":156902.66666666666,"d":"156,902.666667"},"*"]
["Listengruppe 03a, 03b",{"$nulls":4},{"v":404732,"d":"404,732"},":",3,"=",{"v":134910.66666666666,"d":"134,910.666667"}]
["Liste 09",{"$nulls":4},{"v":29768,"d":"29,768"},":",1,"=",{"v":29768,"d":"29,768.000000"}]
["Liste 14",{"$nulls":4},{"v":41127,"d":"41,127"},":",1,"=",{"v":41127,"d":"41,127.000000"}]
[]
["* Den höchsten Quotienten zeigt die Listengruppe 01a, 01b, die infolgedessen einen weiteren Sitz, somit 6 Sitze erhält."]
[]
[]
[]
["C.2 Verteilung der Sitze innerhalb der verbundenen Listen 02a, 02b, 02c, 02d, 02e, 05a, 05b, 10 (4 Sitze)"]
[]
["Bestimmung der Verteilungszahl:",{"$nulls":4},"Gesamtstimmenzahl"]
[{"$nulls":5},"der Listengruppe:",null,null,{"v":793834,"d":"793,834"}]
[{"$nulls":5},"Zahl der erworbenen Sitze + 1:",null,null,5]
[{"$nulls":5},"Verteilungszahl der Listengruppe:",null,null,{"v":158767,"d":"158,767"}]
[]
["Erste Verteilung"]
[]
["Liste oder Listengruppe:",{"$nulls":4},"Stimmenzahl:",null,"Verteilungszahl:",null,"Zahl der Sitze:"]
["Listengruppe 02a, 02b, 02c, 02d, 02e",{"$nulls":4},{"v":491674,"d":"491,674"},":",{"v":158767,"d":"158,767"},"=",3]
["Listengruppe 05a, 05b",{"$nulls":4},{"v":292070,"d":"292,070"},":",{"v":158767,"d":"158,767"},"=",1]
["Liste 10",{"$nulls":4},{"v":10090,"d":"10,090"},":",{"v":158767,"d":"158,767"},"=",0]
[{"$nulls":9},4]
[]
[]
[]
["C.3 Verteilung der Sitze innerhalb der verbundenen Listen 04a, 04b, 04c, 04d, 04e, 04f, 04g, 04h, 04i, 06a, 06b, 06c (3 Sitze)"]
[]
["Bestimmung der Verteilungszahl:",{"$nulls":4},"Gesamtstimmenzahl"]
[{"$nulls":5},"der Listengruppe:",null,null,{"v":549416,"d":"549,416"}]
[{"$nulls":5},"Zahl der erworbenen Sitze + 1:",null,null,4]
[{"$nulls":5},"Verteilungszahl der Listengruppe:",null,null,{"v":137355,"d":"137,355"}]
[]
["Erste Verteilung"]
[]
["Liste oder Listengruppe:",{"$nulls":4},"Stimmenzahl:",null,"Verteilungszahl:",null,"Zahl der Sitze:"]
["Listengruppe 04a, 04b, 04c, 04d, 04e, 04f, 04g, 04h, 04i",{"$nulls":4},{"v":295446,"d":"295,446"},":",{"v":137355,"d":"137,355"},"=",2]
["Listengruppe 06a, 06b, 06c",{"$nulls":4},{"v":253970,"d":"253,970"},":",{"v":137355,"d":"137,355"},"=",1]
[{"$nulls":9},3]
[]
[]
[]
["C.4 Verteilung der Sitze innerhalb der verbundenen Listen 07a, 07b, 07c, 08a, 08b, 08c (1 Sitz)"]
[]
["Bestimmung der Verteilungszahl:",{"$nulls":4},"Gesamtstimmenzahl"]
[{"$nulls":5},"der Listengruppe:",null,null,{"v":200405,"d":"200,405"}]
[{"$nulls":5},"Zahl der erworbenen Sitze + 1:",null,null,2]
[{"$nulls":5},"Verteilungszahl der Listengruppe:",null,null,{"v":100203,"d":"100,203"}]
[]
["Erste Verteilung"]
[]
["Liste oder Listengruppe:",{"$nulls":4},"Stimmenzahl:",null,"Verteilungszahl:",null,"Zahl der Sitze:"]
["Listengruppe 07a, 07b, 07c",{"$nulls":4},{"v":91611,"d":"91,611"},":",{"v":100203,"d":"100,203"},"=",0]
["Listengruppe 08a, 08b, 08c",{"$nulls":4},{"v":108794,"d":"108,794"},":",{"v":100203,"d":"100,203"},"=",1]
[{"$nulls":9},1]
[]
[]
[]
["D.1 Verteilung der Sitze innerhalb der unterverbundenen Listen 01a, 01b (6 Sitze)"]
[]
["Bestimmung der Verteilungszahl:",{"$nulls":4},"Gesamtstimmenzahl"]
[{"$nulls":5},"der Listengruppe:",null,null,{"v":941416,"d":"941,416"}]
[{"$nulls":5},"Zahl der erworbenen Sitze + 1:",null,null,7]
[{"$nulls":5},"Verteilungszahl der Listengruppe:",null,null,{"v":134489,"d":"134,489"}]
[]
["Erste Verteilung"]
[]
["Liste oder Listengruppe:",{"$nulls":4},"Stimmenzahl:",null,"Verteilungszahl:",null,"Zahl der Sitze:"]
["Liste 01a",{"$nulls":4},{"v":916647,"d":"916,647"},":",{"v":134489,"d":"134,489"},"=",6]
["Liste 01b",{"$nulls":4},{"v":24769,"d":"24,769"},":",{"v":134489,"d":"134,489"},"=",0]
[{"$nulls":9},6]
[]
[]
[]
["D.3 Verteilung der Sitze innerhalb der unterverbundenen Listen 02a, 02b, 02c, 02d, 02e (3 Sitze)"]
[]
["Bestimmung der Verteilungszahl:",{"$nulls":4},"Gesamtstimmenzahl"]
[{"$nulls":5},"der Listengruppe:",null,null,{"v":491674,"d":"491,674"}]
[{"$nulls":5},"Zahl der erworbenen Sitze + 1:",null,null,4]
[{"$nulls":5},"Verteilungszahl der Listengruppe:",null,null,{"v":122919,"d":"122,919"}]
[]
["Erste Verteilung"]
[]
["Liste oder Listengruppe:",{"$nulls":4},"Stimmenzahl:",null,"Verteilungszahl:",null,"Zahl der Sitze:"]
["Liste 02a",{"$nulls":4},{"v":420492,"d":"420,492"},":",{"v":122919,"d":"122,919"},"=",3]
["Liste 02b",{"$nulls":4},{"v":21732,"d":"21,732"},":",{"v":122919,"d":"122,919"},"=",0]
["Liste 02c",{"$nulls":4},{"v":12515,"d":"12,515"},":",{"v":122919,"d":"122,919"},"=",0]
["Liste 02d",{"$nulls":4},{"v":21432,"d":"21,432"},":",{"v":122919,"d":"122,919"},"=",0]
["Liste 02e",{"$nulls":4},{"v":15503,"d":"15,503"},":",{"v":122919,"d":"122,919"},"=",0]
[{"$nulls":9},3]
[]
[]
[]
["D.2 Verteilung der Sitze innerhalb der unterverbundenen Listen 03a, 03b (2 Sitze)"]
[]
["Bestimmung der Verteilungszahl:",{"$nulls":4},"Gesamtstimmenzahl"]
[{"$nulls":5},"der Listengruppe:",null,null,{"v":404732,"d":"404,732"}]
[{"$nulls":5},"Zahl der erworbenen Sitze + 1:",null,null,3]
[{"$nulls":5},"Verteilungszahl der Listengruppe:",null,null,{"v":134911,"d":"134,911"}]
[]
["Erste Verteilung"]
[]
["Liste oder Listengruppe:",{"$nulls":4},"Stimmenzahl:",null,"Verteilungszahl:",null,"Zahl der Sitze:"]
["Liste 03a",{"$nulls":4},{"v":385936,"d":"385,936"},":",{"v":134911,"d":"134,911"},"=",2]
["Liste 03b",{"$nulls":4},{"v":18796,"d":"18,796"},":",{"v":134911,"d":"134,911"},"=",0]
[{"$nulls":9},2]
[]
[]
[]
["D.5 Verteilung der Sitze innerhalb der unterverbundenen Listen 04a, 04b, 04c, 04d, 04e, 04f, 04g, 04h, 04i (2 Sitze)"]
[]
["Bestimmung der Verteilungszahl:",{"$nulls":4},"Gesamtstimmenzahl"]
[{"$nulls":5},"der Listengruppe:",null,null,{"v":295446,"d":"295,446"}]
[{"$nulls":5},"Zahl der erworbenen Sitze + 1:",null,null,3]
[{"$nulls":5},"Verteilungszahl der Listengruppe:",null,null,{"v":98483,"d":"98,483"}]
[]
["Erste Verteilung"]
[]
["Liste oder Listengruppe:",{"$nulls":4},"Stimmenzahl:",null,"Verteilungszahl:",null,"Zahl der Sitze:"]
["Liste 04a",{"$nulls":4},{"v":205895,"d":"205,895"},":",{"v":98483,"d":"98,483"},"=",2]
["Liste 04b",{"$nulls":4},{"v":23925,"d":"23,925"},":",{"v":98483,"d":"98,483"},"=",0]
["Liste 04c",{"$nulls":4},{"v":6178,"d":"6,178"},":",{"v":98483,"d":"98,483"},"=",0]
["Liste 04d",{"$nulls":4},{"v":9266,"d":"9,266"},":",{"v":98483,"d":"98,483"},"=",0]
["Liste 04e",{"$nulls":4},{"v":6682,"d":"6,682"},":",{"v":98483,"d":"98,483"},"=",0]
["Liste 04f",{"$nulls":4},{"v":13705,"d":"13,705"},":",{"v":98483,"d":"98,483"},"=",0]
["Liste 04g",{"$nulls":4},{"v":5416,"d":"5,416"},":",{"v":98483,"d":"98,483"},"=",0]
["Liste 04h",{"$nulls":4},{"v":14079,"d":"14,079"},":",{"v":98483,"d":"98,483"},"=",0]
["Liste 04i",{"$nulls":4},{"v":10300,"d":"10,300"},":",{"v":98483,"d":"98,483"},"=",0]
[{"$nulls":9},2]
[]
[]
[]
["D.4 Verteilung der Sitze innerhalb der unterverbundenen Listen 05a, 05b (1 Sitz)"]
[]
["Bestimmung der Verteilungszahl:",{"$nulls":4},"Gesamtstimmenzahl"]
[{"$nulls":5},"der Listengruppe:",null,null,{"v":292070,"d":"292,070"}]
[{"$nulls":5},"Zahl der erworbenen Sitze + 1:",null,null,2]
[{"$nulls":5},"Verteilungszahl der Listengruppe:",null,null,{"v":146036,"d":"146,036"}]
[]
["Erste Verteilung"]
[]
["Liste oder Listengruppe:",{"$nulls":4},"Stimmenzahl:",null,"Verteilungszahl:",null,"Zahl der Sitze:"]
["Liste 05a",{"$nulls":4},{"v":257338,"d":"257,338"},":",{"v":146036,"d":"146,036"},"=",1]
["Liste 05b",{"$nulls":4},{"v":34732,"d":"34,732"},":",{"v":146036,"d":"146,036"},"=",0]
[{"$nulls":9},1]
[]
[]
[]
["D.6 Verteilung der Sitze innerhalb der unterverbundenen Listen 06a, 06b, 06c (1 Sitz)"]
[]
["Bestimmung der Verteilungszahl:",{"$nulls":4},"Gesamtstimmenzahl"]
[{"$nulls":5},"der Listengruppe:",null,null,{"v":253970,"d":"253,970"}]
[{"$nulls":5},"Zahl der erworbenen Sitze + 1:",null,null,2]
[{"$nulls":5},"Verteilungszahl der Listengruppe:",null,null,{"v":126986,"d":"126,986"}]
[]
["Erste Verteilung"]
[]
["Liste oder Listengruppe:",{"$nulls":4},"Stimmenzahl:",null,"Verteilungszahl:",null,"Zahl der Sitze:"]
["Liste 06a",{"$nulls":4},{"v":211302,"d":"211,302"},":",{"v":126986,"d":"126,986"},"=",1]
["Liste 06b",{"$nulls":4},{"v":31050,"d":"31,050"},":",{"v":126986,"d":"126,986"},"=",0]
["Liste 06c",{"$nulls":4},{"v":11618,"d":"11,618"},":",{"v":126986,"d":"126,986"},"=",0]
[{"$nulls":9},1]
[]
[]
[]
["D.8 Verteilung der Sitze innerhalb der unterverbundenen Listen 08a, 08b, 08c (1 Sitz)"]
[]
["Bestimmung der Verteilungszahl:",{"$nulls":4},"Gesamtstimmenzahl"]
[{"$nulls":5},"der Listengruppe:",null,null,{"v":108794,"d":"108,794"}]
[{"$nulls":5},"Zahl der erworbenen Sitze + 1:",null,null,2]
[{"$nulls":5},"Verteilungszahl der Listengruppe:",null,null,{"v":54398,"d":"54,398"}]
[]
["Erste Verteilung"]
[]
["Liste oder Listengruppe:",{"$nulls":4},"Stimmenzahl:",null,"Verteilungszahl:",null,"Zahl der Sitze:"]
["Liste 08a",{"$nulls":4},{"v":89736,"d":"89,736"},":",{"v":54398,"d":"54,398"},"=",1]
["Liste 08b",{"$nulls":4},{"v":12033,"d":"12,033"},":",{"v":54398,"d":"54,398"},"=",0]
["Liste 08c",{"$nulls":4},{"v":7025,"d":"7,025"},":",{"v":54398,"d":"54,398"},"=",0]
[{"$nulls":9},1]
[]
[]
[]
["Zusammenfassung der Sitzverteilung"]
[]
["Liste","Parteibezeichnung",null,"Sitze"]
["01a","SVP",null,6]
["01b","JSVP",null,0]
["02a","SP",null,3]
["02b","JUSO",null,0]
["02c","SP60+",null,0]
["02d","SPq*f",null,0]
["02e","SPMig",null,0]
["03a","FDP",null,2]
["03b","JF AG",null,0]
["04a","CVP",null,2]
["04b","CVPLA",null,0]
["04c","CVPCS",null,0]
["04d","CVPE",null,0]
["04e","CVPAZ",null,0]
["04f","CVPBZ",null,0]
["04g","CVP#1",null,0]
["04h","CVPFA",null,0]
["04i","CVPFT",null,0]
["05a","Grüne",null,1]
["05b","JG",null,0]
["06a","glp",null,1]
["06b","jglp",null,0]
["06c","glp-u",null,0]
["07a","BDP",null,0]
["07b","JBDP",null,0]
["07c","BDP3",null,0]
["08a","EVP",null,1]
["08b","*jevp",null,0]
["08c","EVP+",null,0]
["09","EDU",null,0]
["10","PPAG",null,0]
["11","LOVB",null,0]
["12","FW AG",null,0]
["13","LS",null,0]
["14","T65+",null,0]
["15","DU",null,0]
[null,"Total",null,16]

{"sheet":"Variante2","index":3,"n_rows":322,"n_cols":12,"rows_kept":322,"merged":[[6,0,6,3],[6,4,6,11],[7,4,7,11],[8,4,10,4],[8,5,10,5],[8,6,10,6],[8,7,10,7],[8,8,10,8],[8,9,10,9],[8,10,10,10],[8,11,10,11],[8,12,10,12],[8,13,10,13],[8,14,10,14],[8,15,10,15],[8,16,10,16],[8,17,10,17],[63,0,63,9],[65,0,65,9],[85,0,85,9],[107,0,107,9],[129,0,129,9],[151,0,151,9],[175,0,175,9],[182,0,182,9],[191,0,191,9],[198,0,198,9],[210,0,210,9],[217,0,217,9],[226,0,226,9],[233,0,233,9],[249,0,249,9],[256,0,256,9],[265,0,265,9],[272,0,272,9],[282,0,282,7]]}
["Erneuerungswahl des Nationalrats"]
[]
[]
["A. Parteistimmenzahl"]
[]
[]
["Stimmenzahl",{"$nulls":3},"Parteistimmenzahl der verbundenen"]
[{"$nulls":4},"bzw. unterverbundenen Listen"]
[{"$nulls":4},"01a, 01b","02a, 02b, 02c, 02d, 02e","03a, 03b","04a, 04b, 04c, 04d, 04e, 04f, 04g, 04h, 04i","05a, 05b","06a, 06b, 06c","07a, 07b, 07c","08a, 08b, 08c"]
["Liste",null,null,"Total"]
[]
[]
[]
["Liste 01a",null,null,{"v":916647,"d":"916,647"},{"v":916647,"d":"916,647"}]
["Liste 01b",null,null,{"v":24769,"d":"24,769"},{"v":24769,"d":"24,769"}]
["Liste 02a",null,null,{"v":420492,"d":"420,492"},null,{"v":420492,"d":"420,492"}]
["Liste 02b",null,null,{"v":21732,"d":"21,732"},null,{"v":21732,"d":"21,732"}]
["Liste 02c",null,null,{"v":12515,"d":"12,515"},null,{"v":12515,"d":"12,515"}]
["Liste 02d",null,null,{"v":21432,"d":"21,432"},null,{"v":21432,"d":"21,432"}]
["Liste 02e",null,null,{"v":15503,"d":"15,503"},null,{"v":15503,"d":"15,503"}]
["Liste 03a",null,null,{"v":385936,"d":"385,936"},null,null,{"v":385936,"d":"385,936"}]
["Liste 03b",null,null,{"v":18796,"d":"18,796"},null,null,{"v":18796,"d":"18,796"}]
["Liste 04a",null,null,{"v":205895,"d":"205,895"},{"$nulls":3},{"v":205895,"d":"205,895"}]
["Liste 04b",null,null,{"v":23925,"d":"23,925"},{"$nulls":3},{"v":23925,"d":"23,925"}]
["Liste 04c",null,null,{"v":6178,"d":"6,178"},{"$nulls":3},{"v":6178,"d":"6,178"}]
["Liste 04d",null,null,{"v":9266,"d":"9,266"},{"$nulls":3},{"v":9266,"d":"9,266"}]
["Liste 04e",null,null,{"v":6682,"d":"6,682"},{"$nulls":3},{"v":6682,"d":"6,682"}]
["Liste 04f",null,null,{"v":13705,"d":"13,705"},{"$nulls":3},{"v":13705,"d":"13,705"}]
["Liste 04g",null,null,{"v":5416,"d":"5,416"},{"$nulls":3},{"v":5416,"d":"5,416"}]
["Liste 04h",null,null,{"v":14079,"d":"14,079"},{"$nulls":3},{"v":14079,"d":"14,079"}]
["Liste 04i",null,null,{"v":10300,"d":"10,300"},{"$nulls":3},{"v":10300,"d":"10,300"}]
["Liste 05a",null,null,{"v":257338,"d":"257,338"},{"$nulls":4},{"v":257338,"d":"257,338"}]
["Liste 05b",null,null,{"v":34732,"d":"34,732"},{"$nulls":4},{"v":34732,"d":"34,732"}]
["Liste 06a",null,null,{"v":211302,"d":"211,302"},{"$nulls":5},{"v":211302,"d":"211,302"}]
["Liste 06b",null,null,{"v":31050,"d":"31,050"},{"$nulls":5},{"v":31050,"d":"31,050"}]
["Liste 06c",null,null,{"v":11618,"d":"11,618"},{"$nulls":5},{"v":11618,"d":"11,618"}]
["Liste 07a",null,null,{"v":74123,"d":"74,123"},{"$nulls":6},{"v":74123,"d":"74,123"}]
["Liste 07b",null,null,{"v":11300,"d":"11,300"},{"$nulls":6},{"v":11300,"d":"11,300"}]
["Liste 07c",null,null,{"v":6188,"d":"6,188"},{"$nulls":6},{"v":6188,"d":"6,188"}]
["Liste 08a",null,null,{"v":89736,"d":"89,736"},{"$nulls":7},{"v":89736,"d":"89,736"}]
["Liste 08b",null,null,{"v":12033,"d":"12,033"},{"$nulls":7},{"v":12033,"d":"12,033"}]
["Liste 08c",null,null,{"v":7025,"d":"7,025"},{"$nulls":7},{"v":7025,"d":"7,025"}]
["Liste 09",null,null,{"v":29768,"d":"29,768"}]
["Liste 10",null,null,{"v":10090,"d":"10,090"}]
["Liste 11",null,null,{"v":4094,"d":"4,094"}]
["Liste 12",null,null,{"v":6954,"d":"6,954"}]
["Liste 13",null,null,{"v":6541,"d":"6,541"}]
["Liste 14",null,null,{"v":41127,"d":"41,127"}]
["Liste 15",null,null,{"v":7651,"d":"7,651"}]
[]
[{"$nulls":3},{"v":2985938,"d":"2,985,938"},{"v":941416,"d":"941,416"},{"v":491674,"d":"491,674"},{"v":404732,"d":"404,732"},{"v":295446,"d":"295,446"},{"v":292070,"d":"292,070"},{"v":253970,"d":"253,970"},{"v":91611,"d":"91,611"},{"v":108794,"d":"108,794"}]
[]
[]
["Bestimmung der Verteilungszahl:",{"$nulls":4},"Gesamtzahl der gültigen"]
[{"$nulls":5},"Parteistimmen:",null,null,{"v":2985938,"d":"2,985,938"}]
[{"$nulls":5},"Zahl der Mandate + 1:",null,null,17]
[{"$nulls":5},"Verteilungszahl:",null,null,{"v":175644,"d":"175,644"}]
[]
["(Anmerkung: Die Gesamtzahl der gültigen Parteistimmen wird durch die um eins vermehrte Zahl"]
["der zu vergebenden Sitze geteilt. Die nächsthöhere ganze Zahl heisst Verteilungszahl.)"]
[]
[]
[]
["B. Verteilung der Sitze auf die einzelnen Listen oder Listengruppen bei verbundenen Listen"]
[]
["Erste Verteilung"]
[]
["Liste oder Listengruppe:",{"$nulls":4},"Stimmenzahl:",null,"Verteilungszahl:",null,"Zahl der Sitze:"]
["Listengruppe 01a, 01b",{"$nulls":4},{"v":941416,"d":"941,416"},":",{"v":175644,"d":"175,644"},"=",5]
["Listengruppe 02a, 02b, 02c, 02d, 02e",{"$nulls":4},{"v":491674,"d":"491,674"},":",{"v":175644,"d":"175,644"},"=",2]
["Listengruppe 03a, 03b",{"$nulls":4},{"v":404732,"d":"404,732"},":",{"v":175644,"d":"175,644"},"=",2]
["Listengruppe 04a, 04b, 04c, 04d, 04e, 04f, 04g, 04h, 04i",{"$nulls":4},{"v":295446,"d":"295,446"},":",{"v":175644,"d":"175,644"},"=",1]
["Listengruppe 05a, 05b",{"$nulls":4},{"v":292070,"d":"292,070"},":",{"v":175644,"d":"175,644"},"=",1]
["Listengruppe 06a, 06b, 06c",{"$nulls":4},{"v":253970,"d":"253,970"},":",{"v":175644,"d":"175,644"},"=",1]
["Listengruppe 07a, 07b, 07c",{"$nulls":4},{"v":91611,"d":"91,611"},":",{"v":175644,"d":"175,644"},"=",0]
["Listengruppe 08a, 08b, 08c",{"$nulls":4},{"v":108794,"d":"108,794"},":",{"v":175644,"d":"175,644"},"=",0]
["Liste 09",{"$nulls":4},{"v":29768,"d":"29,768"},":",{"v":175644,"d":"175,644"},"=",0]
["Liste 10",{"$nulls":4},{"v":10090,"d":"10,090"},":",{"v":175644,"d":"175,644"},"=",0]
["Liste 11",{"$nulls":4},{"v":4094,"d":"4,094"},":",{"v":175644,"d":"175,644"},"=",0]
["Liste 12",{"$nulls":4},{"v":6954,"d":"6,954"},":",{"v":175644,"d":"175,644"},"=",0]
["Liste 13",{"$nulls":4},{"v":6541,"d":"6,541"},":",{"v":175644,"d":"175,644"},"=",0]
["Liste 14",{"$nulls":4},{"v":41127,"d":"41,127"},":",{"v":175644,"d":"175,644"},"=",0]
["Liste 15",{"$nulls":4},{"v":7651,"d":"7,651"},":",{"v":175644,"d":"175,644"},"=",0]
[{"$nulls":9},12]
[]
["Zweite Verteilung"]
[]
[{"$nulls":7},"Sitze der ersten"]
["Liste oder Listengruppe:",{"$nulls":4},"Stimmenzahl:",null,"Verteilung + 1:",null,"Quotient:"]
["Listengruppe 01a, 01b",{"$nulls":4},{"v":941416,"d":"941,416"},":",6,"=",{"v":156902.66666666666,"d":"156,902.666667"}]
["Listengruppe 02a, 02b, 02c, 02d, 02e",{"$nulls":4},{"v":491674,"d":"491,674"},":",3,"=",{"v":163891.33333333334,"d":"163,891.333333"},"*"]
["Listengruppe 03a, 03b",{"$nulls":4},{"v":404732,"d":"404,732"},":",3,"=",{"v":134910.66666666666,"d":"134,910.666667"}]
["Listengruppe 04a, 04b, 04c, 04d, 04e, 04f, 04g, 04h, 04i",{"$nulls":4},{"v":295446,"d":"295,446"},":",2,"=",{"v":147723,"d":"147,723.000000"}]
["Listengruppe 05a, 05b",{"$nulls":4},{"v":292070,"d":"292,070"},":",2,"=",{"v":146035,"d":"146,035.000000"}]
["Listengruppe 06a, 06b, 06c",{"$nulls":4},{"v":253970,"d":"253,970"},":",2,"=",{"v":126985,"d":"126,985.000000"}]
["Listengruppe 07a, 07b, 07c",{"$nulls":4},{"v":91611,"d":"91,611"},":",1,"=",{"v":91611,"d":"91,611.000000"}]
["Listengruppe 08a, 08b, 08c",{"$nulls":4},{"v":108794,"d":"108,794"},":",1,"=",{"v":108794,"d":"108,794.000000"}]
["Liste 09",{"$nulls":4},{"v":29768,"d":"29,768"},":",1,"=",{"v":29768,"d":"29,768.000000"}]
["Liste 10",{"$nulls":4},{"v":10090,"d":"10,090"},":",1,"=",{"v":10090,"d":"10,090.000000"}]
["Liste 11",{"$nulls":4},{"v":4094,"d":"4,094"},":",1,"=",{"v":4094,"d":"4,094.000000"}]
["Liste 12",{"$nulls":4},{"v":6954,"d":"6,954"},":",1,"=",{"v":6954,"d":"6,954.000000"}]
["Liste 13",{"$nulls":4},{"v":6541,"d":"6,541"},":",1,"=",{"v":6541,"d":"6,541.000000"}]
["Liste 14",{"$nulls":4},{"v":41127,"d":"41,127"},":",1,"=",{"v":41127,"d":"41,127.000000"}]
["Liste 15",{"$nulls":4},{"v":7651,"d":"7,651"},":",1,"=",{"v":7651,"d":"7,651.000000"}]
[]
["* Den höchsten Quotienten zeigt die Listengruppe 02a, 02b, 02c, 02d, 02e, die infolgedessen einen weiteren Sitz, somit 3 Sitze erhält."]
[]
["Dritte Verteilung"]
[]
[{"$nulls":7},"Sitze der zweiten"]
["Liste oder Listengruppe:",{"$nulls":4},"Stimmenzahl:",null,"Verteilung + 1:",null,"Quotient:"]
["Listengruppe 01a, 01b",{"$nulls":4},{"v":941416,"d":"941,416"},":",6,"=",{"v":156902.66666666666,"d":"156,902.666667"},"*"]
["Listengruppe 02a, 02b, 02c, 02d, 02e",{"$nulls":4},{"v":491674,"d":"491,674"},":",4,"=",{"v":122918.5,"d":"122,918.500000"}]
["Listengruppe 03a, 03b",{"$nulls":4},{"v":404732,"d":"404,732"},":",3,"=",{"v":134910.66666666666,"d":"134,910.666667"}]
["Listengruppe 04a, 04b, 04c, 04d, 04e, 04f, 04g, 04h, 04i",{"$nulls":4},{"v":295446,"d":"295,446"},":",2,"=",{"v":147723,"d":"147,723.000000"}]
["Listengruppe 05a, 05b",{"$nulls":4},{"v":292070,"d":"292,070"},":",2,"=",{"v":146035,"d":"146,035.000000"}]
["Listengruppe 06a, 06b, 06c",{"$nulls":4},{"v":253970,"d":"253,970"},":",2,"=",{"v":126985,"d":"126,985.000000"}]
["Listengruppe 07a, 07b, 07c",{"$nulls":4},{"v":91611,"d":"91,611"},":",1,"=",{"v":91611,"d":"91,611.000000"}]
["Listengruppe 08a, 08b, 08c",{"$nulls":4},{"v":108794,"d":"108,794"},":",1,"=",{"v":108794,"d":"108,794.000000"}]
["Liste 09",{"$nulls":4},{"v":29768,"d":"29,768"},":",1,"=",{"v":29768,"d":"29,768.000000"}]
["Liste 10",{"$nulls":4},{"v":10090,"d":"10,090"},":",1,"=",{"v":10090,"d":"10,090.000000"}]
["Liste 11",{"$nulls":4},{"v":4094,"d":"4,094"},":",1,"=",{"v":4094,"d":"4,094.000000"}]
["Liste 12",{"$nulls":4},{"v":6954,"d":"6,954"},":",1,"=",{"v":6954,"d":"6,954.000000"}]
["Liste 13",{"$nulls":4},{"v":6541,"d":"6,541"},":",1,"=",{"v":6541,"d":"6,541.000000"}]
["Liste 14",{"$nulls":4},{"v":41127,"d":"41,127"},":",1,"=",{"v":41127,"d":"41,127.000000"}]
["Liste 15",{"$nulls":4},{"v":7651,"d":"7,651"},":",1,"=",{"v":7651,"d":"7,651.000000"}]
[]
["* Den höchsten Quotienten zeigt die Listengruppe 01a, 01b, die infolgedessen einen weiteren Sitz, somit 6 Sitze erhält."]
[]
["Vierte Verteilung"]
[]
[{"$nulls":7},"Sitze der dritten"]
["Liste oder Listengruppe:",{"$nulls":4},"Stimmenzahl:",null,"Verteilung + 1:",null,"Quotient:"]
["Listengruppe 01a, 01b",{"$nulls":4},{"v":941416,"d":"941,416"},":",7,"=",{"v":134488,"d":"134,488.000000"}]
["Listengruppe 02a, 02b, 02c, 02d, 02e",{"$nulls":4},{"v":491674,"d":"491,674"},":",4,"=",{"v":122918.5,"d":"122,918.500000"}]
["Listengruppe 03a, 03b",{"$nulls":4},{"v":404732,"d":"404,732"},":",3,"=",{"v":134910.66666666666,"d":"134,910.666667"}]
["Listengruppe 04a, 04b, 04c, 04d, 04e, 04f, 04g, 04h, 04i",{"$nulls":4},{"v":295446,"d":"295,446"},":",2,"=",{"v":147723,"d":"147,723.000000"},"*"]
["Listengruppe 05a, 05b",{"$nulls":4},{"v":292070,"d":"292,070"},":",2,"=",{"v":146035,"d":"146,035.000000"}]
["Listengruppe 06a, 06b, 06c",{"$nulls":4},{"v":253970,"d":"253,970"},":",2,"=",{"v":126985,"d":"126,985.000000"}]
["Listengruppe 07a, 07b, 07c",{"$nulls":4},{"v":91611,"d":"91,611"},":",1,"=",{"v":91611,"d":"91,611.000000"}]
["Listengruppe 08a, 08b, 08c",{"$nulls":4},{"v":108794,"d":"108,794"},":",1,"=",{"v":108794,"d":"108,794.000000"}]
["Liste 09",{"$nulls":4},{"v":29768,"d":"29,768"},":",1,"=",{"v":29768,"d":"29,768.000000"}]
["Liste 10",{"$nulls":4},{"v":10090,"d":"10,090"},":",1,"=",{"v":10090,"d":"10,090.000000"}]
["Liste 11",{"$nulls":4},{"v":4094,"d":"4,094"},":",1,"=",{"v":4094,"d":"4,094.000000"}]
["Liste 12",{"$nulls":4},{"v":6954,"d":"6,954"},":",1,"=",{"v":6954,"d":"6,954.000000"}]
["Liste 13",{"$nulls":4},{"v":6541,"d":"6,541"},":",1,"=",{"v":6541,"d":"6,541.000000"}]
["Liste 14",{"$nulls":4},{"v":41127,"d":"41,127"},":",1,"=",{"v":41127,"d":"41,127.000000"}]
["Liste 15",{"$nulls":4},{"v":7651,"d":"7,651"},":",1,"=",{"v":7651,"d":"7,651.000000"}]
[]
["* Den höchsten Quotienten zeigt die Listengruppe 04a, 04b, 04c, 04d, 04e, 04f, 04g, 04h, 04i, die infolgedessen einen weiteren Sitz, somit 2 Sitze erhält."]
[]
["Fünfte Verteilung"]
[]
[{"$nulls":7},"Sitze der vierten"]
["Liste oder Listengruppe:",{"$nulls":4},"Stimmenzahl:",null,"Verteilung + 1:",null,"Quotient:"]
["Listengruppe 01a, 01b",{"$nulls":4},{"v":941416,"d":"941,416"},":",7,"=",{"v":134488,"d":"134,488.000000"}]
["Listengruppe 02a, 02b, 02c, 02d, 02e",{"$nulls":4},{"v":491674,"d":"491,674"},":",4,"=",{"v":122918.5,"d":"122,918.500000"}]
["Listengruppe 03a, 03b",{"$nulls":4},{"v":404732,"d":"404,732"},":",3,"=",{"v":134910.66666666666,"d":"134,910.666667"}]
["Listengruppe 04a, 04b, 04c, 04d, 04e, 04f, 04g, 04h, 04i",{"$nulls":4},{"v":295446,"d":"295,446"},":",3,"=",{"v":98482,"d":"98,482.000000"}]
["Listengruppe 05a, 05b",{"$nulls":4},{"v":292070,"d":"292,070"},":",2,"=",{"v":146035,"d":"146,035.000000"},"*"]
["Listengruppe 06a, 06b, 06c",{"$nulls":4},{"v":253970,"d":"253,970"},":",2,"=",{"v":126985,"d":"126,985.000000"}]
["Listengruppe 07a, 07b, 07c",{"$nulls":4},{"v":91611,"d":"91,611"},":",1,"=",{"v":91611,"d":"91,611.000000"}]
["Listengruppe 08a, 08b, 08c",{"$nulls":4},{"v":108794,"d":"108,794"},":",1,"=",{"v":108794,"d":"108,794.000000"}]
["Liste 09",{"$nulls":4},{"v":29768,"d":"29,768"},":",1,"=",{"v":29768,"d":"29,768.000000"}]
["Liste 10",{"$nulls":4},{"v":10090,"d":"10,090"},":",1,"=",{"v":10090,"d":"10,090.000000"}]
["Liste 11",{"$nulls":4},{"v":4094,"d":"4,094"},":",1,"=",{"v":4094,"d":"4,094.000000"}]
["Liste 12",{"$nulls":4},{"v":6954,"d":"6,954"},":",1,"=",{"v":6954,"d":"6,954.000000"}]
["Liste 13",{"$nulls":4},{"v":6541,"d":"6,541"},":",1,"=",{"v":6541,"d":"6,541.000000"}]
["Liste 14",{"$nulls":4},{"v":41127,"d":"41,127"},":",1,"=",{"v":41127,"d":"41,127.000000"}]
["Liste 15",{"$nulls":4},{"v":7651,"d":"7,651"},":",1,"=",{"v":7651,"d":"7,651.000000"}]
[]
["* Den höchsten Quotienten zeigt die Listengruppe 05a, 05b, die infolgedessen einen weiteren Sitz, somit 2 Sitze erhält."]
[]
[]
[]
["C.1 Verteilung der Sitze innerhalb der verbundenen Listen 01a, 01b (6 Sitze)"]
[]
["Bestimmung der Verteilungszahl:",{"$nulls":4},"Gesamtstimmenzahl"]
[{"$nulls":5},"der Listengruppe:",null,null,{"v":941416,"d":"941,416"}]
[{"$nulls":5},"Zahl der erworbenen Sitze + 1:",null,null,7]
[{"$nulls":5},"Verteilungszahl der Listengruppe:",null,null,{"v":134489,"d":"134,489"}]
[]
["Erste Verteilung"]
[]
["Liste oder Listengruppe:",{"$nulls":4},"Stimmenzahl:",null,"Verteilungszahl:",null,"Zahl der Sitze:"]
["Liste 01a",{"$nulls":4},{"v":916647,"d":"916,647"},":",{"v":134489,"d":"134,489"},"=",6]
["Liste 01b",{"$nulls":4},{"v":24769,"d":"24,769"},":",{"v":134489,"d":"134,489"},"=",0]
[{"$nulls":9},6]
[]
[]
[]
["C.2 Verteilung der Sitze innerhalb der verbundenen Listen 02a, 02b, 02c, 02d, 02e (3 Sitze)"]
[]
["Bestimmung der Verteilungszahl:",{"$nulls":4},"Gesamtstimmenzahl"]
[{"$nulls":5},"der Listengruppe:",null,null,{"v":491674,"d":"491,674"}]
[{"$nulls":5},"Zahl der erworbenen Sitze + 1:",null,null,4]
[{"$nulls":5},"Verteilungszahl der Listengruppe:",null,null,{"v":122919,"d":"122,919"}]
[]
["Erste Verteilung"]
[]
["Liste oder Listengruppe:",{"$nulls":4},"Stimmenzahl:",null,"Verteilungszahl:",null,"Zahl der Sitze:"]
["Liste 02a",{"$nulls":4},{"v":420492,"d":"420,492"},":",{"v":122919,"d":"122,919"},"=",3]
["Liste 02b",{"$nulls":4},{"v":21732,"d":"21,732"},":",{"v":122919,"d":"122,919"},"=",0]
["Liste 02c",{"$nulls":4},{"v":12515,"d":"12,515"},":",{"v":122919,"d":"122,919"},"=",0]
["Liste 02d",{"$nulls":4},{"v":21432,"d":"21,432"},":",{"v":122919,"d":"122,919"},"=",0]
["Liste 02e",{"$nulls":4},{"v":15503,"d":"15,503"},":",{"v":122919,"d":"122,919"},"=",0]
[{"$nulls":9},3]
[]
[]
[]
["C.3 Verteilung der Sitze innerhalb der verbundenen Listen 03a, 03b (2 Sitze)"]
[]
["Bestimmung der Verteilungszahl:",{"$nulls":4},"Gesamtstimmenzahl"]
[{"$nulls":5},"der Listengruppe:",null,null,{"v":404732,"d":"404,732"}]
[{"$nulls":5},"Zahl der erworbenen Sitze + 1:",null,null,3]
[{"$nulls":5},"Verteilungszahl der Listengruppe:",null,null,{"v":134911,"d":"134,911"}]
[]
["Erste Verteilung"]
[]
["Liste oder Listengruppe:",{"$nulls":4},"Stimmenzahl:",null,"Verteilungszahl:",null,"Zahl der Sitze:"]
["Liste 03a",{"$nulls":4},{"v":385936,"d":"385,936"},":",{"v":134911,"d":"134,911"},"=",2]
["Liste 03b",{"$nulls":4},{"v":18796,"d":"18,796"},":",{"v":134911,"d":"134,911"},"=",0]
[{"$nulls":9},2]
[]
[]
[]
["C.4 Verteilung der Sitze innerhalb der verbundenen Listen 04a, 04b, 04c, 04d, 04e, 04f, 04g, 04h, 04i (2 Sitze)"]
[]
["Bestimmung der Verteilungszahl:",{"$nulls":4},"Gesamtstimmenzahl"]
[{"$nulls":5},"der Listengruppe:",null,null,{"v":295446,"d":"295,446"}]
[{"$nulls":5},"Zahl der erworbenen Sitze + 1:",null,null,3]
[{"$nulls":5},"Verteilungszahl der Listengruppe:",null,null,{"v":98483,"d":"98,483"}]
[]
["Erste Verteilung"]
[]
["Liste oder Listengruppe:",{"$nulls":4},"Stimmenzahl:",null,"Verteilungszahl:",null,"Zahl der Sitze:"]
["Liste 04a",{"$nulls":4},{"v":205895,"d":"205,895"},":",{"v":98483,"d":"98,483"},"=",2]
["Liste 04b",{"$nulls":4},{"v":23925,"d":"23,925"},":",{"v":98483,"d":"98,483"},"=",0]
["Liste 04c",{"$nulls":4},{"v":6178,"d":"6,178"},":",{"v":98483,"d":"98,483"},"=",0]
["Liste 04d",{"$nulls":4},{"v":9266,"d":"9,266"},":",{"v":98483,"d":"98,483"},"=",0]
["Liste 04e",{"$nulls":4},{"v":6682,"d":"6,682"},":",{"v":98483,"d":"98,483"},"=",0]
["Liste 04f",{"$nulls":4},{"v":13705,"d":"13,705"},":",{"v":98483,"d":"98,483"},"=",0]
["Liste 04g",{"$nulls":4},{"v":5416,"d":"5,416"},":",{"v":98483,"d":"98,483"},"=",0]
["Liste 04h",{"$nulls":4},{"v":14079,"d":"14,079"},":",{"v":98483,"d":"98,483"},"=",0]
["Liste 04i",{"$nulls":4},{"v":10300,"d":"10,300"},":",{"v":98483,"d":"98,483"},"=",0]
[{"$nulls":9},2]
[]
[]
[]
["C.5 Verteilung der Sitze innerhalb der verbundenen Listen 05a, 05b (2 Sitze)"]
[]
["Bestimmung der Verteilungszahl:",{"$nulls":4},"Gesamtstimmenzahl"]
[{"$nulls":5},"der Listengruppe:",null,null,{"v":292070,"d":"292,070"}]
[{"$nulls":5},"Zahl der erworbenen Sitze + 1:",null,null,3]
[{"$nulls":5},"Verteilungszahl der Listengruppe:",null,null,{"v":97357,"d":"97,357"}]
[]
["Erste Verteilung"]
[]
["Liste oder Listengruppe:",{"$nulls":4},"Stimmenzahl:",null,"Verteilungszahl:",null,"Zahl der Sitze:"]
["Liste 05a",{"$nulls":4},{"v":257338,"d":"257,338"},":",{"v":97357,"d":"97,357"},"=",2]
["Liste 05b",{"$nulls":4},{"v":34732,"d":"34,732"},":",{"v":97357,"d":"97,357"},"=",0]
[{"$nulls":9},2]
[]
[]
[]
["C.6 Verteilung der Sitze innerhalb der verbundenen Listen 06a, 06b, 06c (1 Sitz)"]
[]
["Bestimmung der Verteilungszahl:",{"$nulls":4},"Gesamtstimmenzahl"]
[{"$nulls":5},"der Listengruppe:",null,null,{"v":253970,"d":"253,970"}]
[{"$nulls":5},"Zahl der erworbenen Sitze + 1:",null,null,2]
[{"$nulls":5},"Verteilungszahl der Listengruppe:",null,null,{"v":126986,"d":"126,986"}]
[]
["Erste Verteilung"]
[]
["Liste oder Listengruppe:",{"$nulls":4},"Stimmenzahl:",null,"Verteilungszahl:",null,"Zahl der Sitze:"]
["Liste 06a",{"$nulls":4},{"v":211302,"d":"211,302"},":",{"v":126986,"d":"126,986"},"=",1]
["Liste 06b",{"$nulls":4},{"v":31050,"d":"31,050"},":",{"v":126986,"d":"126,986"},"=",0]
["Liste 06c",{"$nulls":4},{"v":11618,"d":"11,618"},":",{"v":126986,"d":"126,986"},"=",0]
[{"$nulls":9},1]
[]
[]
[]
["Zusammenfassung der Sitzverteilung"]
[]
["Liste","Parteibezeichnung",null,"Sitze"]
["01a","SVP",null,6]
["01b","JSVP",null,0]
["02a","SP",null,3]
["02b","JUSO",null,0]
["02c","SP60+",null,0]
["02d","SPq*f",null,0]
["02e","SPMig",null,0]
["03a","FDP",null,2]
["03b","JF AG",null,0]
["04a","CVP",null,2]
["04b","CVPLA",null,0]
["04c","CVPCS",null,0]
["04d","CVPE",null,0]
["04e","CVPAZ",null,0]
["04f","CVPBZ",null,0]
["04g","CVP#1",null,0]
["04h","CVPFA",null,0]
["04i","CVPFT",null,0]
["05a","Grüne",null,2]
["05b","JG",null,0]
["06a","glp",null,1]
["06b","jglp",null,0]
["06c","glp-u",null,0]
["07a","BDP",null,0]
["07b","JBDP",null,0]
["07c","BDP3",null,0]
["08a","EVP",null,0]
["08b","*jevp",null,0]
["08c","EVP+",null,0]
["09","EDU",null,0]
["10","PPAG",null,0]
["11","LOVB",null,0]
["12","FW AG",null,0]
["13","LS",null,0]
["14","T65+",null,0]
["15","DU",null,0]
[null,"Total",null,16]

{"sheet":"SV_B","index":4,"n_rows":130,"n_cols":67,"rows_kept":130,"hidden":true}
[{"$nulls":11},2,{"$nulls":6},3,{"$nulls":6},4,{"$nulls":6},5,{"$nulls":6},6,{"$nulls":6},7,{"$nulls":6},8,{"$nulls":6},9]
[{"$nulls":3},"Sitze:",16,null,null,"J",null,12.2,null,12.4,12.4,null,null,"13.2/13.3",{"$nulls":6},"13.2/13.3",{"$nulls":6},"13.2/13.3",{"$nulls":6},"13.2/13.3",{"$nulls":6},"13.2/13.3",{"$nulls":6},"13.2/13.3",{"$nulls":6},"13.2/13.3",{"$nulls":6},"13.2/13.3"]
[{"$nulls":6},1,null,12.1,12.3,{"$nulls":5},"Pendent",{"$nulls":6},"Pendent",{"$nulls":6},"Pendent",{"$nulls":6},"Pendent",{"$nulls":6},"Pendent",{"$nulls":6},"Pendent",{"$nulls":6},"Pendent",{"$nulls":6},"Pendent"]
["Verbindung",{"$nulls":7},"Erste Verteilung",null,"Sitze der ersten","Zweite Verteilung",{"$nulls":3},"Eingabe",null,"Sitze der zweiten","Dritte Verteilung",{"$nulls":3},"Eingabe",null,"Sitze der dritten","Vierte Verteilung",{"$nulls":3},"Eingabe",null,"Sitze der vierten","Fünfte Verteilung",{"$nulls":3},"Eingabe",null,"Sitze der fünften","Sechste Verteilung",{"$nulls":3},"Eingabe",null,"Sitze der sechsten","Siebte Verteilung",{"$nulls":3},"Eingabe",null,"Sitze der siebten","Achte Verteilung",{"$nulls":3},"Eingabe",null,"Sitze der achten","Neute Verteilung",{"$nulls":3},"Eingabe",null,"Sitze der neuten"]
["LV","UV","Listen",null,"Total","AnzahlK","Total","Sitze","Vert.Z","Sitze","Rest","Si+1","Quotient","maxQ","maxR","max K","Los","Sitze","Vert.Z.","Quotient","maxQ","maxR","max K","Los","Sitze","Vert.Z.","Quotient","maxQ","maxR","max K","Los","Sitze","Vert.Z.","Quotient","maxQ","maxR","max K","Los",null,"Vert.Z.","Quotient","maxQ","maxR","max K","Los",null,"Vert.Z.","Quotient","maxQ","maxR","max K","Los",null,"Vert.Z.","Quotient","maxQ","maxR","max K","Los",null,"Vert.Z.","Quotient","maxQ","maxR","max K","Los"]
[1,null,"Listengruppe 01a, 01b","01a, 01b",{"v":941416,"d":"941,416"},32,null,null,{"v":175644,"d":"175,644"},5,{"v":63196,"d":"63,196"},6,{"v":156902.66666666666,"d":"156,902.67"},0,0,0,null,5,6,{"v":156902.66666666666,"d":"156,902.67"},1,0,0,null,6,7,{"v":134488,"d":"134,488.00"},0,0,0,null,6,7,{"v":134488,"d":"134,488.00"},0,0,0,null,6,"","",0,0,0,null,6,"","",0,0,0,null,6,"","",0,0,0,null,6,"","",0,0,0,null,6]
[2,null,"Listengruppe 02a, 02b, 02c, 02d, 02e","02a, 02b, 02c, 02d, 02e",{"v":491674,"d":"491,674"},80,null,null,{"v":175644,"d":"175,644"},2,{"v":140386,"d":"140,386"},3,{"v":163891.33333333334,"d":"163,891.33"},1,0,0,null,3,4,{"v":122918.5,"d":"122,918.50"},0,0,0,null,3,4,{"v":122918.5,"d":"122,918.50"},0,0,0,null,3,4,{"v":122918.5,"d":"122,918.50"},0,0,0,null,3,"","",0,0,0,null,3,"","",0,0,0,null,3,"","",0,0,0,null,3,"","",0,0,0,null,3]
[3,null,"Listengruppe 03a, 03b","03a, 03b",{"v":404732,"d":"404,732"},32,null,null,{"v":175644,"d":"175,644"},2,{"v":53444,"d":"53,444"},3,{"v":134910.66666666666,"d":"134,910.67"},0,0,0,null,2,3,{"v":134910.66666666666,"d":"134,910.67"},0,0,0,null,2,3,{"v":134910.66666666666,"d":"134,910.67"},0,0,0,null,2,3,{"v":134910.66666666666,"d":"134,910.67"},0,0,0,null,2,"","",0,0,0,null,2,"","",0,0,0,null,2,"","",0,0,0,null,2,"","",0,0,0,null,2]
[4,null,"Listengruppe 04a, 04b, 04c, 04d, 04e, 04f, 04g, 04h, 04i","04a, 04b, 04c, 04d, 04e, 04f, 04g, 04h, 04i",{"v":295446,"d":"295,446"},144,null,null,{"v":175644,"d":"175,644"},1,{"v":119802,"d":"119,802"},2,{"v":147723,"d":"147,723.00"},0,0,0,null,1,2,{"v":147723,"d":"147,723.00"},0,0,0,null,1,2,{"v":147723,"d":"147,723.00"},1,0,0,null,2,3,{"v":98482,"d":"98,482.00"},0,0,0,null,2,"","",0,0,0,null,2,"","",0,0,0,null,2,"","",0,0,0,null,2,"","",0,0,0,null,2]
[5,null,"Listengruppe 05a, 05b","05a, 05b",{"v":292070,"d":"292,070"},32,null,null,{"v":175644,"d":"175,644"},1,{"v":116426,"d":"116,426"},2,{"v":146035,"d":"146,035.00"},0,0,0,null,1,2,{"v":146035,"d":"146,035.00"},0,0,0,null,1,2,{"v":146035,"d":"146,035.00"},0,0,0,null,1,2,{"v":146035,"d":"146,035.00"},1,0,0,null,2,"","",0,0,0,null,2,"","",0,0,0,null,2,"","",0,0,0,null,2,"","",0,0,0,null,2]
[6,null,"Listengruppe 06a, 06b, 06c","06a, 06b, 06c",{"v":253970,"d":"253,970"},48,null,null,{"v":175644,"d":"175,644"},1,{"v":78326,"d":"78,326"},2,{"v":126985,"d":"126,985.00"},0,0,0,null,1,2,{"v":126985,"d":"126,985.00"},0,0,0,null,1,2,{"v":126985,"d":"126,985.00"},0,0,0,null,1,2,{"v":126985,"d":"126,985.00"},0,0,0,null,1,"","",0,0,0,null,1,"","",0,0,0,null,1,"","",0,0,0,null,1,"","",0,0,0,null,1]
[7,null,"Listengruppe 07a, 07b, 07c","07a, 07b, 07c",{"v":91611,"d":"91,611"},48,null,null,{"v":175644,"d":"175,644"},0,{"v":91611,"d":"91,611"},1,{"v":91611,"d":"91,611.00"},0,0,0,null,0,1,{"v":91611,"d":"91,611.00"},0,0,0,null,0,1,{"v":91611,"d":"91,611.00"},0,0,0,null,0,1,{"v":91611,"d":"91,611.00"},0,0,0,null,0,"","",0,0,0,null,0,"","",0,0,0,null,0,"","",0,0,0,null,0,"","",0,0,0,null,0]
[8,null,"Listengruppe 08a, 08b, 08c","08a, 08b, 08c",{"v":108794,"d":"108,794"},48,null,null,{"v":175644,"d":"175,644"},0,{"v":108794,"d":"108,794"},1,{"v":108794,"d":"108,794.00"},0,0,0,null,0,1,{"v":108794,"d":"108,794.00"},0,0,0,null,0,1,{"v":108794,"d":"108,794.00"},0,0,0,null,0,1,{"v":108794,"d":"108,794.00"},0,0,0,null,0,"","",0,0,0,null,0,"","",0,0,0,null,0,"","",0,0,0,null,0,"","",0,0,0,null,0]
[null,null,"Liste 09","09",{"v":29768,"d":"29,768"},16,null,null,{"v":175644,"d":"175,644"},0,{"v":29768,"d":"29,768"},1,{"v":29768,"d":"29,768.00"},0,0,0,null,0,1,{"v":29768,"d":"29,768.00"},0,0,0,null,0,1,{"v":29768,"d":"29,768.00"},0,0,0,null,0,1,{"v":29768,"d":"29,768.00"},0,0,0,null,0,"","",0,0,0,null,0,"","",0,0,0,null,0,"","",0,0,0,null,0,"","",0,0,0,null,0]
[null,null,"Liste 10","10",{"v":10090,"d":"10,090"},16,null,null,{"v":175644,"d":"175,644"},0,{"v":10090,"d":"10,090"},1,{"v":10090,"d":"10,090.00"},0,0,0,null,0,1,{"v":10090,"d":"10,090.00"},0,0,0,null,0,1,{"v":10090,"d":"10,090.00"},0,0,0,null,0,1,{"v":10090,"d":"10,090.00"},0,0,0,null,0,"","",0,0,0,null,0,"","",0,0,0,null,0,"","",0,0,0,null,0,"","",0,0,0,null,0]
[null,null,"Liste 11","11",{"v":4094,"d":"4,094"},16,null,null,{"v":175644,"d":"175,644"},0,{"v":4094,"d":"4,094"},1,{"v":4094,"d":"4,094.00"},0,0,0,null,0,1,{"v":4094,"d":"4,094.00"},0,0,0,null,0,1,{"v":4094,"d":"4,094.00"},0,0,0,null,0,1,{"v":4094,"d":"4,094.00"},0,0,0,null,0,"","",0,0,0,null,0,"","",0,0,0,null,0,"","",0,0,0,null,0,"","",0,0,0,null,0]
[null,null,"Liste 12","12",{"v":6954,"d":"6,954"},16,null,null,{"v":175644,"d":"175,644"},0,{"v":6954,"d":"6,954"},1,{"v":6954,"d":"6,954.00"},0,0,0,null,0,1,{"v":6954,"d":"6,954.00"},0,0,0,null,0,1,{"v":6954,"d":"6,954.00"},0,0,0,null,0,1,{"v":6954,"d":"6,954.00"},0,0,0,null,0,"","",0,0,0,null,0,"","",0,0,0,null,0,"","",0,0,0,null,0,"","",0,0,0,null,0]
[null,null,"Liste 13","13",{"v":6541,"d":"6,541"},16,null,null,{"v":175644,"d":"175,644"},0,{"v":6541,"d":"6,541"},1,{"v":6541,"d":"6,541.00"},0,0,0,null,0,1,{"v":6541,"d":"6,541.00"},0,0,0,null,0,1,{"v":6541,"d":"6,541.00"},0,0,0,null,0,1,{"v":6541,"d":"6,541.00"},0,0,0,null,0,"","",0,0,0,null,0,"","",0,0,0,null,0,"","",0,0,0,null,0,"","",0,0,0,null,0]
[null,null,"Liste 14","14",{"v":41127,"d":"41,127"},16,null,null,{"v":175644,"d":"175,644"},0,{"v":41127,"d":"41,127"},1,{"v":41127,"d":"41,127.00"},0,0,0,null,0,1,{"v":41127,"d":"41,127.00"},0,0,0,null,0,1,{"v":41127,"d":"41,127.00"},0,0,0,null,0,1,{"v":41127,"d":"41,127.00"},0,0,0,null,0,"","",0,0,0,null,0,"","",0,0,0,null,0,"","",0,0,0,null,0,"","",0,0,0,null,0]
[null,null,"Liste 15","15",{"v":7651,"d":"7,651"},16,null,null,{"v":175644,"d":"175,644"},0,{"v":7651,"d":"7,651"},1,{"v":7651,"d":"7,651.00"},0,0,0,null,0,1,{"v":7651,"d":"7,651.00"},0,0,0,null,0,1,{"v":7651,"d":"7,651.00"},0,0,0,null,0,1,{"v":7651,"d":"7,651.00"},0,0,0,null,0,"","",0,0,0,null,0,"","",0,0,0,null,0,"","",0,0,0,null,0,"","",0,0,0,null,0]
[{"$nulls":5},0,null,null,"","","","","",0,0,0,null,"","","",0,0,0,null,"","","",0,0,0,null,"","","",0,0,0,null,"","","",0,0,0,null,"","","",0,0,0,null,"","","",0,0,0,null,"","","",0,0,0,null,""]
[{"$nulls":5},0,null,null,"","","","","",0,0,0,null,"","","",0,0,0,null,"","","",0,0,0,null,"","","",0,0,0,null,"","","",0,0,0,null,"","","",0,0,0,null,"","","",0,0,0,null,"","","",0,0,0,null,""]
[{"$nulls":5},0,null,null,"","","","","",0,0,0,null,"","","",0,0,0,null,"","","",0,0,0,null,"","","",0,0,0,null,"","","",0,0,0,null,"","","",0,0,0,null,"","","",0,0,0,null,"","","",0,0,0,null,""]
[{"$nulls":5},0,null,null,"","","","","",0,0,0,null,"","","",0,0,0,null,"","","",0,0,0,null,"","","",0,0,0,null,"","","",0,0,0,null,"","","",0,0,0,null,"","","",0,0,0,null,"","","",0,0,0,null,""]
[{"$nulls":5},0,null,null,"","","","","",0,0,0,null,"","","",0,0,0,null,"","","",0,0,0,null,"","","",0,0,0,null,"","","",0,0,0,null,"","","",0,0,0,null,"","","",0,0,0,null,"","","",0,0,0,null,""]
[{"$nulls":5},0,null,null,"","","","","",0,0,0,null,"","","",0,0,0,null,"","","",0,0,0,null,"","","",0,0,0,null,"","","",0,0,0,null,"","","",0,0,0,null,"","","",0,0,0,null,"","","",0,0,0,null,""]
[{"$nulls":5},0,null,null,"","","","","",0,0,0,null,"","","",0,0,0,null,"","","",0,0,0,null,"","","",0,0,0,null,"","","",0,0,0,null,"","","",0,0,0,null,"","","",0,0,0,null,"","","",0,0,0,null,""]
[{"$nulls":5},0,null,null,"","","","","",0,0,0,null,"","","",0,0,0,null,"","","",0,0,0,null,"","","",0,0,0,null,"","","",0,0,0,null,"","","",0,0,0,null,"","","",0,0,0,null,"","","",0,0,0,null,""]
[{"$nulls":5},0,null,null,"","","","","",0,0,0,null,"","","",0,0,0,null,"","","",0,0,0,null,"","","",0,0,0,null,"","","",0,0,0,null,"","","",0,0,0,null,"","","",0,0,0,null,"","","",0,0,0,null,""]
[{"$nulls":5},0,null,null,"","","","","",0,0,0,null,"","","",0,0,0,null,"","","",0,0,0,null,"","","",0,0,0,null,"","","",0,0,0,null,"","","",0,0,0,null,"","","",0,0,0,null,"","","",0,0,0,null,""]
[{"$nulls":5},0,null,null,"","","","","",0,0,0,null,"","","",0,0,0,null,"","","",0,0,0,null,"","","",0,0,0,null,"","","",0,0,0,null,"","","",0,0,0,null,"","","",0,0,0,null,"","","",0,0,0,null,""]
[{"$nulls":5},0,null,null,"","","","","",0,0,0,null,"","","",0,0,0,null,"","","",0,0,0,null,"","","",0,0,0,null,"","","",0,0,0,null,"","","",0,0,0,null,"","","",0,0,0,null,"","","",0,0,0,null,""]
[{"$nulls":5},0,null,null,"","","","","",0,0,0,null,"","","",0,0,0,null,"","","",0,0,0,null,"","","",0,0,0,null,"","","",0,0,0,null,"","","",0,0,0,null,"","","",0,0,0,null,"","","",0,0,0,null,""]
[{"$nulls":5},0,null,null,"","","","","",0,0,0,null,"","","",0,0,0,null,"","","",0,0,0,null,"","","",0,0,0,null,"","","",0,0,0,null,"","","",0,0,0,null,"","","",0,0,0,null,"","","",0,0,0,null,""]
[{"$nulls":5},0,null,null,"","","","","",0,0,0,null,"","","",0,0,0,null,"","","",0,0,0,null,"","","",0,0,0,null,"","","",0,0,0,null,"","","",0,0,0,null,"","","",0,0,0,null,"","","",0,0,0,null,""]
[{"$nulls":5},0,null,null,"","","","","",0,0,0,null,"","","",0,0,0,null,"","","",0,0,0,null,"","","",0,0,0,null,"","","",0,0,0,null,"","","",0,0,0,null,"","","",0,0,0,null,"","","",0,0,0,null,""]
[{"$nulls":5},0,null,null,"","","","","",0,0,0,null,"","","",0,0,0,null,"","","",0,0,0,null,"","","",0,0,0,null,"","","",0,0,0,null,"","","",0,0,0,null,"","","",0,0,0,null,"","","",0,0,0,null,""]
[{"$nulls":5},0,null,null,"","","","","",0,0,0,null,"","","",0,0,0,null,"","","",0,0,0,null,"","","",0,0,0,null,"","","",0,0,0,null,"","","",0,0,0,null,"","","",0,0,0,null,"","","",0,0,0,null,""]
[{"$nulls":5},0,null,null,"","","","","",0,0,0,null,"","","",0,0,0,null,"","","",0,0,0,null,"","","",0,0,0,null,"","","",0,0,0,null,"","","",0,0,0,null,"","","",0,0,0,null,"","","",0,0,0,null,""]
[{"$nulls":5},0,null,null,"","","","","",0,0,0,null,"","","",0,0,0,null,"","","",0,0,0,null,"","","",0,0,0,null,"","","",0,0,0,null,"","","",0,0,0,null,"","","",0,0,0,null,"","","",0,0,0,null,""]
[{"$nulls":5},0,null,null,"","","","","",0,0,0,null,"","","",0,0,0,null,"","","",0,0,0,null,"","","",0,0,0,null,"","","",0,0,0,null,"","","",0,0,0,null,"","","",0,0,0,null,"","","",0,0,0,null,""]
[{"$nulls":5},0,null,null,"","","","","",0,0,0,null,"","","",0,0,0,null,"","","",0,0,0,null,"","","",0,0,0,null,"","","",0,0,0,null,"","","",0,0,0,null,"","","",0,0,0,null,"","","",0,0,0,null,""]
[{"$nulls":5},0,null,null,"","","","","",0,0,0,null,"","","",0,0,0,null,"","","",0,0,0,null,"","","",0,0,0,null,"","","",0,0,0,null,"","","",0,0,0,null,"","","",0,0,0,null,"","","",0,0,0,null,""]
[{"$nulls":5},0,null,null,"","","","","",0,0,0,null,"","","",0,0,0,null,"","","",0,0,0,null,"","","",0,0,0,null,"","","",0,0,0,null,"","","",0,0,0,null,"","","",0,0,0,null,"","","",0,0,0,null,""]
[{"$nulls":5},0,null,null,"","","","","",0,0,0,null,"","","",0,0,0,null,"","","",0,0,0,null,"","","",0,0,0,null,"","","",0,0,0,null,"","","",0,0,0,null,"","","",0,0,0,null,"","","",0,0,0,null,""]
[{"$nulls":5},0,null,null,"","","","","",0,0,0,null,"","","",0,0,0,null,"","","",0,0,0,null,"","","",0,0,0,null,"","","",0,0,0,null,"","","",0,0,0,null,"","","",0,0,0,null,"","","",0,0,0,null,""]
[]
[1,null,"Liste 01a","01a",{"v":916647,"d":"916,647"},16,941416,6,{"v":134489,"d":"134,489"},6,{"v":109713,"d":"109,713"},"","",0,0,0,null,6,"","",0,0,0,null,6,"","",0,0,0,null,6,"","",0,0,0,null,6,"","",0,0,0,null,6,"","",0,0,0,null,6,"","",0,0,0,null,6,"","",0,0,0,null,6]
[1,null,"Liste 01b","01b",{"v":24769,"d":"24,769"},16,941416,6,{"v":134489,"d":"134,489"},0,{"v":24769,"d":"24,769"},"","",0,0,0,null,0,"","",0,0,0,null,0,"","",0,0,0,null,0,"","",0,0,0,null,0,"","",0,0,0,null,0,"","",0,0,0,null,0,"","",0,0,0,null,0,"","",0,0,0,null,0]
[2,null,"Liste 02a","02a",{"v":420492,"d":"420,492"},16,491674,3,{"v":122919,"d":"122,919"},3,{"v":51735,"d":"51,735"},"","",0,0,0,null,3,"","",0,0,0,null,3,"","",0,0,0,null,3,"","",0,0,0,null,3,"","",0,0,0,null,3,"","",0,0,0,null,3,"","",0,0,0,null,3,"","",0,0,0,null,3]
[2,null,"Liste 02b","02b",{"v":21732,"d":"21,732"},16,491674,3,{"v":122919,"d":"122,919"},0,{"v":21732,"d":"21,732"},"","",0,0,0,null,0,"","",0,0,0,null,0,"","",0,0,0,null,0,"","",0,0,0,null,0,"","",0,0,0,null,0,"","",0,0,0,null,0,"","",0,0,0,null,0,"","",0,0,0,null,0]
[2,null,"Liste 02c","02c",{"v":12515,"d":"12,515"},16,491674,3,{"v":122919,"d":"122,919"},0,{"v":12515,"d":"12,515"},"","",0,0,0,null,0,"","",0,0,0,null,0,"","",0,0,0,null,0,"","",0,0,0,null,0,"","",0,0,0,null,0,"","",0,0,0,null,0,"","",0,0,0,null,0,"","",0,0,0,null,0]
[2,null,"Liste 02d","02d",{"v":21432,"d":"21,432"},16,491674,3,{"v":122919,"d":"122,919"},0,{"v":21432,"d":"21,432"},"","",0,0,0,null,0,"","",0,0,0,null,0,"","",0,0,0,null,0,"","",0,0,0,null,0,"","",0,0,0,null,0,"","",0,0,0,null,0,"","",0,0,0,null,0,"","",0,0,0,null,0]
[2,null,"Liste 02e","02e",{"v":15503,"d":"15,503"},16,491674,3,{"v":122919,"d":"122,919"},0,{"v":15503,"d":"15,503"},"","",0,0,0,null,0,"","",0,0,0,null,0,"","",0,0,0,null,0,"","",0,0,0,null,0,"","",0,0,0,null,0,"","",0,0,0,null,0,"","",0,0,0,null,0,"","",0,0,0,null,0]
[3,null,"Liste 03a","03a",{"v":385936,"d":"385,936"},16,404732,2,{"v":134911,"d":"134,911"},2,{"v":116114,"d":"116,114"},"","",0,0,0,null,2,"","",0,0,0,null,2,"","",0,0,0,null,2,"","",0,0,0,null,2,"","",0,0,0,null,2,"","",0,0,0,null,2,"","",0,0,0,null,2,"","",0,0,0,null,2]
[3,null,"Liste 03b","03b",{"v":18796,"d":"18,796"},16,404732,2,{"v":134911,"d":"134,911"},0,{"v":18796,"d":"18,796"},"","",0,0,0,null,0,"","",0,0,0,null,0,"","",0,0,0,null,0,"","",0,0,0,null,0,"","",0,0,0,null,0,"","",0,0,0,null,0,"","",0,0,0,null,0,"","",0,0,0,null,0]
[4,null,"Liste 04a","04a",{"v":205895,"d":"205,895"},16,295446,2,{"v":98483,"d":"98,483"},2,{"v":8929,"d":"8,929"},"","",0,0,0,null,2,"","",0,0,0,null,2,"","",0,0,0,null,2,"","",0,0,0,null,2,"","",0,0,0,null,2,"","",0,0,0,null,2,"","",0,0,0,null,2,"","",0,0,0,null,2]
[4,null,"Liste 04b","04b",{"v":23925,"d":"23,925"},16,295446,2,{"v":98483,"d":"98,483"},0,{"v":23925,"d":"23,925"},"","",0,0,0,null,0,"","",0,0,0,null,0,"","",0,0,0,null,0,"","",0,0,0,null,0,"","",0,0,0,null,0,"","",0,0,0,null,0,"","",0,0,0,null,0,"","",0,0,0,null,0]
[4,null,"Liste 04c","04c",{"v":6178,"d":"6,178"},16,295446,2,{"v":98483,"d":"98,483"},0,{"v":6178,"d":"6,178"},"","",0,0,0,null,0,"","",0,0,0,null,0,"","",0,0,0,null,0,"","",0,0,0,null,0,"","",0,0,0,null,0,"","",0,0,0,null,0,"","",0,0,0,null,0,"","",0,0,0,null,0]
[4,null,"Liste 04d","04d",{"v":9266,"d":"9,266"},16,295446,2,{"v":98483,"d":"98,483"},0,{"v":9266,"d":"9,266"},"","",0,0,0,null,0,"","",0,0,0,null,0,"","",0,0,0,null,0,"","",0,0,0,null,0,"","",0,0,0,null,0,"","",0,0,0,null,0,"","",0,0,0,null,0,"","",0,0,0,null,0]
[4,null,"Liste 04e","04e",{"v":6682,"d":"6,682"},16,295446,2,{"v":98483,"d":"98,483"},0,{"v":6682,"d":"6,682"},"","",0,0,0,null,0,"","",0,0,0,null,0,"","",0,0,0,null,0,"","",0,0,0,null,0,"","",0,0,0,null,0,"","",0,0,0,null,0,"","",0,0,0,null,0,"","",0,0,0,null,0]
[4,null,"Liste 04f","04f",{"v":13705,"d":"13,705"},16,295446,2,{"v":98483,"d":"98,483"},0,{"v":13705,"d":"13,705"},"","",0,0,0,null,0,"","",0,0,0,null,0,"","",0,0,0,null,0,"","",0,0,0,null,0,"","",0,0,0,null,0,"","",0,0,0,null,0,"","",0,0,0,null,0,"","",0,0,0,null,0]
[4,null,"Liste 04g","04g",{"v":5416,"d":"5,416"},16,295446,2,{"v":98483,"d":"98,483"},0,{"v":5416,"d":"5,416"},"","",0,0,0,null,0,"","",0,0,0,null,0,"","",0,0,0,null,0,"","",0,0,0,null,0,"","",0,0,0,null,0,"","",0,0,0,null,0,"","",0,0,0,null,0,"","",0,0,0,null,0]
[4,null,"Liste 04h","04h",{"v":14079,"d":"14,079"},16,295446,2,{"v":98483,"d":"98,483"},0,{"v":14079,"d":"14,079"},"","",0,0,0,null,0,"","",0,0,0,null,0,"","",0,0,0,null,0,"","",0,0,0,null,0,"","",0,0,0,null,0,"","",0,0,0,null,0,"","",0,0,0,null,0,"","",0,0,0,null,0]
[4,null,"Liste 04i","04i",{"v":10300,"d":"10,300"},16,295446,2,{"v":98483,"d":"98,483"},0,{"v":10300,"d":"10,300"},"","",0,0,0,null,0,"","",0,0,0,null,0,"","",0,0,0,null,0,"","",0,0,0,null,0,"","",0,0,0,null,0,"","",0,0,0,null,0,"","",0,0,0,null,0,"","",0,0,0,null,0]
[5,null,"Liste 05a","05a",{"v":257338,"d":"257,338"},16,292070,2,{"v":97357,"d":"97,357"},2,{"v":62624,"d":"62,624"},"","",0,0,0,null,2,"","",0,0,0,null,2,"","",0,0,0,null,2,"","",0,0,0,null,2,"","",0,0,0,null,2,"","",0,0,0,null,2,"","",0,0,0,null,2,"","",0,0,0,null,2]
[5,null,"Liste 05b","05b",{"v":34732,"d":"34,732"},16,292070,2,{"v":97357,"d":"97,357"},0,{"v":34732,"d":"34,732"},"","",0,0,0,null,0,"","",0,0,0,null,0,"","",0,0,0,null,0,"","",0,0,0,null,0,"","",0,0,0,null,0,"","",0,0,0,null,0,"","",0,0,0,null,0,"","",0,0,0,null,0]
[6,null,"Liste 06a","06a",{"v":211302,"d":"211,302"},16,253970,1,{"v":126986,"d":"126,986"},1,{"v":84316,"d":"84,316"},"","",0,0,0,null,1,"","",0,0,0,null,1,"","",0,0,0,null,1,"","",0,0,0,null,1,"","",0,0,0,null,1,"","",0,0,0,null,1,"","",0,0,0,null,1,"","",0,0,0,null,1]
[6,null,"Liste 06b","06b",{"v":31050,"d":"31,050"},16,253970,1,{"v":126986,"d":"126,986"},0,{"v":31050,"d":"31,050"},"","",0,0,0,null,0,"","",0,0,0,null,0,"","",0,0,0,null,0,"","",0,0,0,null,0,"","",0,0,0,null,0,"","",0,0,0,null,0,"","",0,0,0,null,0,"","",0,0,0,null,0]
[6,null,"Liste 06c","06c",{"v":11618,"d":"11,618"},16,253970,1,{"v":126986,"d":"126,986"},0,{"v":11618,"d":"11,618"},"","",0,0,0,null,0,"","",0,0,0,null,0,"","",0,0,0,null,0,"","",0,0,0,null,0,"","",0,0,0,null,0,"","",0,0,0,null,0,"","",0,0,0,null,0,"","",0,0,0,null,0]
[7,null,"Liste 07a","07a",{"v":74123,"d":"74,123"},16,91611,0,"","","","","",0,0,0,null,"","","",0,0,0,null,"","","",0,0,0,null,"","","",0,0,0,null,"","","",0,0,0,null,"","","",0,0,0,null,"","","",0,0,0,null,"","","",0,0,0,null,""]
[7,null,"Liste 07b","07b",{"v":11300,"d":"11,300"},16,91611,0,"","","","","",0,0,0,null,"","","",0,0,0,null,"","","",0,0,0,null,"","","",0,0,0,null,"","","",0,0,0,null,"","","",0,0,0,null,"","","",0,0,0,null,"","","",0,0,0,null,""]
[7,null,"Liste 07c","07c",{"v":6188,"d":"6,188"},16,91611,0,"","","","","",0,0,0,null,"","","",0,0,0,null,"","","",0,0,0,null,"","","",0,0,0,null,"","","",0,0,0,null,"","","",0,0,0,null,"","","",0,0,0,null,"","","",0,0,0,null,""]
[8,null,"Liste 08a","08a",{"v":89736,"d":"89,736"},16,108794,0,"","","","","",0,0,0,null,"","","",0,0,0,null,"","","",0,0,0,null,"","","",0,0,0,null,"","","",0,0,0,null,"","","",0,0,0,null,"","","",0,0,0,null,"","","",0,0,0,null,""]
[8,null,"Liste 08b","08b",{"v":12033,"d":"12,033"},16,108794,0,"","","","","",0,0,0,null,"","","",0,0,0,null,"","","",0,0,0,null,"","","",0,0,0,null,"","","",0,0,0,null,"","","",0,0,0,null,"","","",0,0,0,null,"","","",0,0,0,null,""]
[8,null,"Liste 08c","08c",{"v":7025,"d":"7,025"},16,108794,0,"","","","","",0,0,0,null,"","","",0,0,0,null,"","","",0,0,0,null,"","","",0,0,0,null,"","","",0,0,0,null,"","","",0,0,0,null,"","","",0,0,0,null,"","","",0,0,0,null,""]
[{"$nulls":5},0,0,0,"","","","","",0,0,0,null,"","","",0,0,0,null,"","","",0,0,0,null,"","","",0,0,0,null,"","","",0,0,0,null,"","","",0,0,0,null,"","","",0,0,0,null,"","","",0,0,0,null,""]
[{"$nulls":5},0,0,0,"","","","","",0,0,0,null,"","","",0,0,0,null,"","","",0,0,0,null,"","","",0,0,0,null,"","","",0,0,0,null,"","","",0,0,0,null,"","","",0,0,0,null,"","","",0,0,0,null,""]
[{"$nulls":5},0,0,0,"","","","","",0,0,0,null,"","","",0,0,0,null,"","","",0,0,0,null,"","","",0,0,0,null,"","","",0,0,0,null,"","","",0,0,0,null,"","","",0,0,0,null,"","","",0,0,0,null,""]
[{"$nulls":5},0,0,0,"","","","","",0,0,0,null,"","","",0,0,0,null,"","","",0,0,0,null,"","","",0,0,0,null,"","","",0,0,0,null,"","","",0,0,0,null,"","","",0,0,0,null,"","","",0,0,0,null,""]
[{"$nulls":5},0,0,0,"","","","","",0,0,0,null,"","","",0,0,0,null,"","","",0,0,0,null,"","","",0,0,0,null,"","","",0,0,0,null,"","","",0,0,0,null,"","","",0,0,0,null,"","","",0,0,0,null,""]
[{"$nulls":5},0,0,0,"","","","","",0,0,0,null,"","","",0,0,0,null,"","","",0,0,0,null,"","","",0,0,0,null,"","","",0,0,0,null,"","","",0,0,0,null,"","","",0,0,0,null,"","","",0,0,0,null,""]
[{"$nulls":5},0,0,0,"","","","","",0,0,0,null,"","","",0,0,0,null,"","","",0,0,0,null,"","","",0,0,0,null,"","","",0,0,0,null,"","","",0,0,0,null,"","","",0,0,0,null,"","","",0,0,0,null,""]
[{"$nulls":5},0,0,0,"","","","","",0,0,0,null,"","","",0,0,0,null,"","","",0,0,0,null,"","","",0,0,0,null,"","","",0,0,0,null,"","","",0,0,0,null,"","","",0,0,0,null,"","","",0,0,0,null,""]
[{"$nulls":5},0,0,0,"","","","","",0,0,0,null,"","","",0,0,0,null,"","","",0,0,0,null,"","","",0,0,0,null,"","","",0,0,0,null,"","","",0,0,0,null,"","","",0,0,0,null,"","","",0,0,0,null,""]
[{"$nulls":5},0,0,0,"","","","","",0,0,0,null,"","","",0,0,0,null,"","","",0,0,0,null,"","","",0,0,0,null,"","","",0,0,0,null,"","","",0,0,0,null,"","","",0,0,0,null,"","","",0,0,0,null,""]
[{"$nulls":5},0,0,0,"","","","","",0,0,0,null,"","","",0,0,0,null,"","","",0,0,0,null,"","","",0,0,0,null,"","","",0,0,0,null,"","","",0,0,0,null,"","","",0,0,0,null,"","","",0,0,0,null,""]
[{"$nulls":5},0,0,0,"","","","","",0,0,0,null,"","","",0,0,0,null,"","","",0,0,0,null,"","","",0,0,0,null,"","","",0,0,0,null,"","","",0,0,0,null,"","","",0,0,0,null,"","","",0,0,0,null,""]
[]
[{"$nulls":5},0,0,0,"","","","","",0,0,0,null,"","","",0,0,0,null,"","","",0,0,0,null,"","","",0,0,0,null,"","","",0,0,0,null,"","","",0,0,0,null,"","","",0,0,0,null,"","","",0,0,0,null,""]
[{"$nulls":5},0,0,0,"","","","","",0,0,0,null,"","","",0,0,0,null,"","","",0,0,0,null,"","","",0,0,0,null,"","","",0,0,0,null,"","","",0,0,0,null,"","","",0,0,0,null,"","","",0,0,0,null,""]
[{"$nulls":5},0,0,0,"","","","","",0,0,0,null,"","","",0,0,0,null,"","","",0,0,0,null,"","","",0,0,0,null,"","","",0,0,0,null,"","","",0,0,0,null,"","","",0,0,0,null,"","","",0,0,0,null,""]
[{"$nulls":5},0,0,0,"","","","","",0,0,0,null,"","","",0,0,0,null,"","","",0,0,0,null,"","","",0,0,0,null,"","","",0,0,0,null,"","","",0,0,0,null,"","","",0,0,0,null,"","","",0,0,0,null,""]
[{"$nulls":5},0,0,0,"","","","","",0,0,0,null,"","","",0,0,0,null,"","","",0,0,0,null,"","","",0,0,0,null,"","","",0,0,0,null,"","","",0,0,0,null,"","","",0,0,0,null,"","","",0,0,0,null,""]
[{"$nulls":5},0,0,0,"","","","","",0,0,0,null,"","","",0,0,0,null,"","","",0,0,0,null,"","","",0,0,0,null,"","","",0,0,0,null,"","","",0,0,0,null,"","","",0,0,0,null,"","","",0,0,0,null,""]
[{"$nulls":5},0,0,0,"","","","","",0,0,0,null,"","","",0,0,0,null,"","","",0,0,0,null,"","","",0,0,0,null,"","","",0,0,0,null,"","","",0,0,0,null,"","","",0,0,0,null,"","","",0,0,0,null,""]
[{"$nulls":5},0,0,0,"","","","","",0,0,0,null,"","","",0,0,0,null,"","","",0,0,0,null,"","","",0,0,0,null,"","","",0,0,0,null,"","","",0,0,0,null,"","","",0,0,0,null,"","","",0,0,0,null,""]
[{"$nulls":5},0,0,0,"","","","","",0,0,0,null,"","","",0,0,0,null,"","","",0,0,0,null,"","","",0,0,0,null,"","","",0,0,0,null,"","","",0,0,0,null,"","","",0,0,0,null,"","","",0,0,0,null,""]
[{"$nulls":5},0,0,0,"","","","","",0,0,0,null,"","","",0,0,0,null,"","","",0,0,0,null,"","","",0,0,0,null,"","","",0,0,0,null,"","","",0,0,0,null,"","","",0,0,0,null,"","","",0,0,0,null,""]
[{"$nulls":5},0,0,0,"","","","","",0,0,0,null,"","","",0,0,0,null,"","","",0,0,0,null,"","","",0,0,0,null,"","","",0,0,0,null,"","","",0,0,0,null,"","","",0,0,0,null,"","","",0,0,0,null,""]
[{"$nulls":5},0,0,0,"","","","","",0,0,0,null,"","","",0,0,0,null,"","","",0,0,0,null,"","","",0,0,0,null,"","","",0,0,0,null,"","","",0,0,0,null,"","","",0,0,0,null,"","","",0,0,0,null,""]
[{"$nulls":5},0,0,0,"","","","","",0,0,0,null,"","","",0,0,0,null,"","","",0,0,0,null,"","","",0,0,0,null,"","","",0,0,0,null,"","","",0,0,0,null,"","","",0,0,0,null,"","","",0,0,0,null,""]
[{"$nulls":5},0,0,0,"","","","","",0,0,0,null,"","","",0,0,0,null,"","","",0,0,0,null,"","","",0,0,0,null,"","","",0,0,0,null,"","","",0,0,0,null,"","","",0,0,0,null,"","","",0,0,0,null,""]
[{"$nulls":5},0,0,0,"","","","","",0,0,0,null,"","","",0,0,0,null,"","","",0,0,0,null,"","","",0,0,0,null,"","","",0,0,0,null,"","","",0,0,0,null,"","","",0,0,0,null,"","","",0,0,0,null,""]
[{"$nulls":5},0,0,0,"","","","","",0,0,0,null,"","","",0,0,0,null,"","","",0,0,0,null,"","","",0,0,0,null,"","","",0,0,0,null,"","","",0,0,0,null,"","","",0,0,0,null,"","","",0,0,0,null,""]
[{"$nulls":5},0,0,0,"","","","","",0,0,0,null,"","","",0,0,0,null,"","","",0,0,0,null,"","","",0,0,0,null,"","","",0,0,0,null,"","","",0,0,0,null,"","","",0,0,0,null,"","","",0,0,0,null,""]
[{"$nulls":5},0,0,0,"","","","","",0,0,0,null,"","","",0,0,0,null,"","","",0,0,0,null,"","","",0,0,0,null,"","","",0,0,0,null,"","","",0,0,0,null,"","","",0,0,0,null,"","","",0,0,0,null,""]
[{"$nulls":5},0,0,0,"","","","","",0,0,0,null,"","","",0,0,0,null,"","","",0,0,0,null,"","","",0,0,0,null,"","","",0,0,0,null,"","","",0,0,0,null,"","","",0,0,0,null,"","","",0,0,0,null,""]
[{"$nulls":5},0,0,0,"","","","","",0,0,0,null,"","","",0,0,0,null,"","","",0,0,0,null,"","","",0,0,0,null,"","","",0,0,0,null,"","","",0,0,0,null,"","","",0,0,0,null,"","","",0,0,0,null,""]
[{"$nulls":5},0,0,0,"","","","","",0,0,0,null,"","","",0,0,0,null,"","","",0,0,0,null,"","","",0,0,0,null,"","","",0,0,0,null,"","","",0,0,0,null,"","","",0,0,0,null,"","","",0,0,0,null,""]
[{"$nulls":5},0,0,0,"","","","","",0,0,0,null,"","","",0,0,0,null,"","","",0,0,0,null,"","","",0,0,0,null,"","","",0,0,0,null,"","","",0,0,0,null,"","","",0,0,0,null,"","","",0,0,0,null,""]
[{"$nulls":5},0,0,0,"","","","","",0,0,0,null,"","","",0,0,0,null,"","","",0,0,0,null,"","","",0,0,0,null,"","","",0,0,0,null,"","","",0,0,0,null,"","","",0,0,0,null,"","","",0,0,0,null,""]
[{"$nulls":5},0,0,0,"","","","","",0,0,0,null,"","","",0,0,0,null,"","","",0,0,0,null,"","","",0,0,0,null,"","","",0,0,0,null,"","","",0,0,0,null,"","","",0,0,0,null,"","","",0,0,0,null,""]
[{"$nulls":5},0,0,0,"","","","","",0,0,0,null,"","","",0,0,0,null,"","","",0,0,0,null,"","","",0,0,0,null,"","","",0,0,0,null,"","","",0,0,0,null,"","","",0,0,0,null,"","","",0,0,0,null,""]
[{"$nulls":5},0,0,0,"","","","","",0,0,0,null,"","","",0,0,0,null,"","","",0,0,0,null,"","","",0,0,0,null,"","","",0,0,0,null,"","","",0,0,0,null,"","","",0,0,0,null,"","","",0,0,0,null,""]
[{"$nulls":5},0,0,0,"","","","","",0,0,0,null,"","","",0,0,0,null,"","","",0,0,0,null,"","","",0,0,0,null,"","","",0,0,0,null,"","","",0,0,0,null,"","","",0,0,0,null,"","","",0,0,0,null,""]
[{"$nulls":5},0,0,0,"","","","","",0,0,0,null,"","","",0,0,0,null,"","","",0,0,0,null,"","","",0,0,0,null,"","","",0,0,0,null,"","","",0,0,0,null,"","","",0,0,0,null,"","","",0,0,0,null,""]
[{"$nulls":5},0,0,0,"","","","","",0,0,0,null,"","","",0,0,0,null,"","","",0,0,0,null,"","","",0,0,0,null,"","","",0,0,0,null,"","","",0,0,0,null,"","","",0,0,0,null,"","","",0,0,0,null,""]
[{"$nulls":5},0,0,0,"","","","","",0,0,0,null,"","","",0,0,0,null,"","","",0,0,0,null,"","","",0,0,0,null,"","","",0,0,0,null,"","","",0,0,0,null,"","","",0,0,0,null,"","","",0,0,0,null,""]
[{"$nulls":5},0,0,0,"","","","","",0,0,0,null,"","","",0,0,0,null,"","","",0,0,0,null,"","","",0,0,0,null,"","","",0,0,0,null,"","","",0,0,0,null,"","","",0,0,0,null,"","","",0,0,0,null,""]
[{"$nulls":5},0,0,0,"","","","","",0,0,0,null,"","","",0,0,0,null,"","","",0,0,0,null,"","","",0,0,0,null,"","","",0,0,0,null,"","","",0,0,0,null,"","","",0,0,0,null,"","","",0,0,0,null,""]
[{"$nulls":5},0,0,0,"","","","","",0,0,0,null,"","","",0,0,0,null,"","","",0,0,0,null,"","","",0,0,0,null,"","","",0,0,0,null,"","","",0,0,0,null,"","","",0,0,0,null,"","","",0,0,0,null,""]
[{"$nulls":5},0,0,0,"","","","","",0,0,0,null,"","","",0,0,0,null,"","","",0,0,0,null,"","","",0,0,0,null,"","","",0,0,0,null,"","","",0,0,0,null,"","","",0,0,0,null,"","","",0,0,0,null,""]
[{"$nulls":5},0,0,0,"","","","","",0,0,0,null,"","","",0,0,0,null,"","","",0,0,0,null,"","","",0,0,0,null,"","","",0,0,0,null,"","","",0,0,0,null,"","","",0,0,0,null,"","","",0,0,0,null,""]
[{"$nulls":5},0,0,0,"","","","","",0,0,0,null,"","","",0,0,0,null,"","","",0,0,0,null,"","","",0,0,0,null,"","","",0,0,0,null,"","","",0,0,0,null,"","","",0,0,0,null,"","","",0,0,0,null,""]
[{"$nulls":5},0,0,0,"","","","","",0,0,0,null,"","","",0,0,0,null,"","","",0,0,0,null,"","","",0,0,0,null,"","","",0,0,0,null,"","","",0,0,0,null,"","","",0,0,0,null,"","","",0,0,0,null,""]
[{"$nulls":5},0,0,0,"","","","","",0,0,0,null,"","","",0,0,0,null,"","","",0,0,0,null,"","","",0,0,0,null,"","","",0,0,0,null,"","","",0,0,0,null,"","","",0,0,0,null,"","","",0,0,0,null,""]
[{"$nulls":5},0,0,0,"","","","","",0,0,0,null,"","","",0,0,0,null,"","","",0,0,0,null,"","","",0,0,0,null,"","","",0,0,0,null,"","","",0,0,0,null,"","","",0,0,0,null,"","","",0,0,0,null,""]
[{"$nulls":5},0,0,0,"","","","","",0,0,0,null,"","","",0,0,0,null,"","","",0,0,0,null,"","","",0,0,0,null,"","","",0,0,0,null,"","","",0,0,0,null,"","","",0,0,0,null,"","","",0,0,0,null,""]
[{"$nulls":5},0,0,0,"","","","","",0,0,0,null,"","","",0,0,0,null,"","","",0,0,0,null,"","","",0,0,0,null,"","","",0,0,0,null,"","","",0,0,0,null,"","","",0,0,0,null,"","","",0,0,0,null,""]